BEGIN:VCALENDAR
VERSION:2.0
PRODID:-//ChamberMaster//Event Calendar 2.0//EN
METHOD:PUBLISH
X-PUBLISHED-TTL:P3D
REFRESH-INTERVAL:P3D
CALSCALE:GREGORIAN
BEGIN:VEVENT
DTSTART:20200905T160000Z
DTEND:20200905T180000Z
X-MICROSOFT-CDO-ALLDAYEVENT:FALSE
SUMMARY:Pizza & Job Fair
DESCRIPTION:Presented by Kathy Barnette\, for U.S. Congress
X-ALT-DESC;FMTTYPE=text/html:Presented by Kathy Barnette\, for U.S. Congress
LOCATION:260 East High Street Pottstown\, PA 19464
UID:e.2183.856334
SEQUENCE:3
DTSTAMP:20260425T231714Z
URL:https://business.tricountyareachamber.com/events/details/pizza-job-fair-856334
END:VEVENT

END:VCALENDAR
