BEGIN:VCALENDAR
VERSION:2.0
PRODID:-//ChamberMaster//Event Calendar 2.0//EN
METHOD:PUBLISH
X-PUBLISHED-TTL:P3D
REFRESH-INTERVAL:P3D
CALSCALE:GREGORIAN
BEGIN:VEVENT
DTSTART:20171007T233000Z
DTEND:20171008T023000Z
X-MICROSOFT-CDO-ALLDAYEVENT:FALSE
SUMMARY:Pop\, Rock\, & Brews
DESCRIPTION:Come rock out and enjoy this fun night\, all proceeds to support the Community Music School\, a non-profit school dedicated to music!\n\n\n\nSaturday\, October 7\, 2017\n\n7:30PM\n\n\n\nJoin us for an Oktoberfest fundraiser for Community Music School with a fun-filled evening of pop and rock music performed by local area bands.\n\n\n\nJustin Pasquine - Enjoy this local singer who covers pop and rock music\, playing guitar and keyboard\, and specializes in Beatles tunes!\n\n\n\nJust for Kicks Band - Just for Kicks specializes in guitar driven rock and blues music.\n\n\n\nBreaking Blonde - Formed in 2016\, this collective group of suburban souls have one purpose\, and one purpose only...to rock you out!\n\n\n\nEnjoy beer tasting\, and pizza for purchase.
X-ALT-DESC;FMTTYPE=text/html:Come rock out and enjoy this fun night\, all proceeds to support the Community Music School\, a non-profit school dedicated to music!<br />\n<br />\nSaturday\, October 7\, 2017<br />\n7:30PM<br />\n<br />\nJoin us for an Oktoberfest fundraiser for Community Music School with a fun-filled evening of pop and rock music performed by local area bands.<br />\n<br />\nJustin Pasquine&nbsp\;- Enjoy this local singer who covers pop and rock music\, playing guitar and keyboard\, and specializes in Beatles tunes!<br />\n<br />\nJust for Kicks Band - Just for Kicks specializes in guitar driven rock and blues music.<br />\n<br />\nBreaking Blonde - Formed in 2016\, this collective group of suburban souls have one purpose\, and one purpose only...to rock you out!<br />\n<br />\nEnjoy beer tasting\, and pizza for purchase.
LOCATION:Community Music School 775 W. Main Street\, Trappe\, PA 19426
UID:e.2183.848791
SEQUENCE:3
DTSTAMP:20260421T043119Z
URL:https://business.tricountyareachamber.com/events/details/pop-rock-brews-848791
END:VEVENT

END:VCALENDAR
