BEGIN:VCALENDAR
VERSION:2.0
PRODID:-//ChamberMaster//Event Calendar 2.0//EN
METHOD:PUBLISH
X-PUBLISHED-TTL:P3D
REFRESH-INTERVAL:P3D
CALSCALE:GREGORIAN
BEGIN:VEVENT
DTSTART:20170308T000000Z
DTEND:20170308T030000Z
X-MICROSOFT-CDO-ALLDAYEVENT:FALSE
SUMMARY:Port Wine\, Adding a Little Spirit to Your Vino
DESCRIPTION:Modern port follows a process of adding spirits to wine during fermentation. Not to be confused with the process of fortifying wine for shipment after fermentation. A process practiced by late 17th and early 18th century English traders seeking a solution to overcome wine spoilage during shipment from Portugal to England. Learn the process of making a fine modern port\, of adding spirits during fermentation.\n \n\nVisit mc3.edu/homeartisans for more information or call 610.718.1944 (select option #2\, then #4 to register now!)
X-ALT-DESC;FMTTYPE=text/html:<span style="color: rgb(101\, 101\, 101)\; font-family: Arial\, Helvetica\, sans-serif\; font-size: 14px\; background-color: rgb(255\, 255\, 255)\;">Modern port follows a process of adding spirits to wine during fermentation. Not to be confused with the process of fortifying wine for shipment after fermentation. A process practiced by late 17th and early 18th century English traders seeking a solution to overcome wine spoilage during shipment from Portugal to England. Learn the process of making a fine modern port\, of adding spirits during fermentation.</span>\n<div>&nbsp\;</div>\n\n<div><span style="color: rgb(101\, 101\, 101)\; font-family: Arial\, Helvetica\, sans-serif\; font-size: 14px\; background-color: rgb(255\, 255\, 255)\;">Visit <a href="http://www.mc3.edu/component/content/article/96-campus-life/9823-home-artisans">mc3.edu/homeartisans</a> for more information or call 610.718.1944 (select option #2\, then #4 to register now!)</span></div>\n
LOCATION:Weak Knee 1277 North Charlotte Street Pottstown\, PA 19464
UID:e.2183.847404
SEQUENCE:3
DTSTAMP:20260420T164552Z
URL:https://business.tricountyareachamber.com/events/details/port-wine-adding-a-little-spirit-to-your-vino-847404
END:VEVENT

END:VCALENDAR
