BEGIN:VCALENDAR
VERSION:2.0
PRODID:-//ChamberMaster//Event Calendar 2.0//EN
METHOD:PUBLISH
X-PUBLISHED-TTL:P3D
REFRESH-INTERVAL:P3D
CALSCALE:GREGORIAN
BEGIN:VEVENT
DTSTART:20241206T230000Z
DTEND:20241207T010000Z
X-MICROSOFT-CDO-ALLDAYEVENT:FALSE
SUMMARY:Pottstown Area Artists Guild Winter Members Showcase
DESCRIPTION:Energetic and diverse works from artists throughout the Pottstown area and beyond. Dec. 6\, 2024 Jan. 31\, 2025 Reception: Dec. 6\, 6-8 p.m. North Hall Gallery Pottstown Campus 101 College Dr.\, Pottstown\, PA 19464 North Hall Gallery is open Monday -Thursday 8 a.m. to 9 p.m.\, Friday 8:30 a.m. to 4:30 p.m. and is closed Saturday and Sunday. The galleries will be closed on holidays. For more information\, contact Patrick Rodgers\, Manager of the Montco Cultural Center at prodgers@mc3.edu.
X-ALT-DESC;FMTTYPE=text/html:Energetic and diverse works from artists throughout the Pottstown area and beyond. Dec. 6\, 2024&ndash\;Jan. 31\, 2025 Reception: Dec. 6\, 6-8 p.m. North Hall Gallery Pottstown Campus 101 College Dr.\, Pottstown\, PA 19464 North Hall Gallery is open Monday -Thursday 8 a.m. to 9 p.m.\, Friday 8:30 a.m. to 4:30 p.m. and is closed Saturday and Sunday. The galleries will be closed on holidays. For more information\, contact Patrick Rodgers\, Manager of the Montco Cultural Center at prodgers@mc3.edu.
LOCATION:Montgomery County Community College North Hall Gallery Pottstown Campus 101 College Dr.\, Pottstown\, PA 19464
UID:e.2183.861508
SEQUENCE:3
DTSTAMP:20260421T161949Z
URL:https://business.tricountyareachamber.com/events/details/pottstown-area-artists-guild-winter-members-showcase-861508
END:VEVENT

END:VCALENDAR
