BEGIN:VCALENDAR
VERSION:2.0
PRODID:-//ChamberMaster//Event Calendar 2.0//EN
METHOD:PUBLISH
X-PUBLISHED-TTL:P3D
REFRESH-INTERVAL:P3D
CALSCALE:GREGORIAN
BEGIN:VEVENT
DTSTART:20170506T160000Z
DTEND:20170507T010000Z
X-MICROSOFT-CDO-ALLDAYEVENT:FALSE
SUMMARY:Pottstown ArtsWalk
DESCRIPTION:Join us for a day of discovery on Saturday\, May 6\, 2017 from 12 pm to 9 pm. Arts and culture organizations\, local businesses and restaurants are teaming up to bring you an amazing day of fun\, food and entertainment.\n\n\n\nViewing the art in a kind of "pub crawl" format adds to the fun and energetic quality of this event. Family-friendly activities are being planned. Nearly 20 downtown business will be open to showcase original artwork displays and live musical entertainment.\n\n\n\nWhile this event is free\, we ask that you pre-register for your free ticket. Each is valid for one person to join the Pottstown ArtsWalk on Saturday\, May 6\, 2017\, and you can order as many as you need. Visit www.artfusion19464.org/artwalk.\n\n\n\nGet a taste for all the activities\, food and arts presentations. Here is a list of venues joining us Saturday\, May 6th to showcase Pottstown and all that our community has to offer:\n@107\, 107 E. High St. and Advantage Insurance\n\nArtFusion 19464\, 254 E. High St.\n\nBallroom on High\, 310 E. High St.\n\nBeverly's Pastry Shop\, 322 E. High St.\n\nConnections on High\, 238 E. High St.\n\nGrumpy's Handcarved Sandwiches\, 137 E. High St.\n\nHigh Street Music\, 135 E. High St.\n\niCreate Cafe\, 130 King St.\n\nJuan Carlos Fine Mexican Cuisine\, 235 E. High St.\n\nLily's Grill\, 115 E. High St.\n\nMCCC North Hall Gallery\, 16 E. High St.\n\nMemory Madness Photo Studio\, 16 N. York St.\n\nMOSIAC Community Land Trust\, 10 S. Hanover St.\n\nPotts & Penn Family Diner\, 80 E. High St.\n\nSmith Family Plaza\, 100 E. High St.\n\nSteel River Playhouse\, 245 E. High St.\n\nThe Carousel at Pottstown\, 30 W. King St.\n\nThe Hill School Center for the Performing Arts\, 780 Beech St.\n\nWeitzenkorn's\, 145 E. High St.
X-ALT-DESC;FMTTYPE=text/html:Join us for a day of discovery on Saturday\, May 6\, 2017 from 12 pm to 9 pm. Arts and culture organizations\, local businesses and restaurants are teaming up to bring you an amazing day of fun\, food and entertainment.<br />\n<br />\nViewing the art in a kind of &quot\;pub crawl&quot\; format adds to the fun and energetic quality of this event. Family-friendly activities are being planned. Nearly 20 downtown business will be open to showcase original artwork displays and live musical entertainment.<br />\n<br />\nWhile this event is free\, we ask that you pre-register for your free ticket. Each is valid for one person to join the Pottstown ArtsWalk on Saturday\, May 6\, 2017\, and you can order as many as you need. Visit <a href="http://www.artfusion19464.org/artwalk">www.artfusion19464.org/artwalk</a>.<br />\n<br />\nGet a taste for all the activities\, food and arts presentations. Here is a list of venues joining us Saturday\, May 6th to showcase Pottstown and all that our community has to offer:\n<div style="text-align: center\;"><strong>@107\, 107 E. High St. and Advantage Insurance<br />\nArtFusion 19464\, 254 E. High St.<br />\nBallroom on High\, 310 E. High St.<br />\nBeverly&rsquo\;s Pastry Shop\, 322 E. High St.<br />\nConnections on High\, 238 E. High St.<br />\nGrumpy&rsquo\;s Handcarved Sandwiches\, 137 E. High St.<br />\nHigh Street Music\, 135 E. High St.<br />\niCreate Cafe\, 130 King St.<br />\nJuan Carlos Fine Mexican Cuisine\, 235 E. High St.<br />\nLily&rsquo\;s Grill\, 115 E. High St.<br />\nMCCC North Hall Gallery\, 16 E. High St.<br />\nMemory Madness Photo Studio\, 16 N. York St.<br />\nMOSIAC Community Land Trust\, 10 S. Hanover St.<br />\nPotts &amp\; Penn Family Diner\, 80 E. High St.<br />\nSmith Family Plaza\, 100 E. High St.<br />\nSteel River Playhouse\, 245 E. High St.<br />\nThe Carousel at Pottstown\, 30 W. King St.<br />\nThe Hill School Center for the Performing Arts\, 780 Beech St.<br />\nWeitzenkorn&rsquo\;s\, 145 E. High St.</strong></div>\n
LOCATION:Pottstown\, PA 19464
UID:e.2183.847605
SEQUENCE:3
DTSTAMP:20260420T200123Z
URL:https://business.tricountyareachamber.com/events/details/pottstown-artswalk-847605
END:VEVENT

END:VCALENDAR
