BEGIN:VCALENDAR
VERSION:2.0
PRODID:-//ChamberMaster//Event Calendar 2.0//EN
METHOD:PUBLISH
X-PUBLISHED-TTL:P3D
REFRESH-INTERVAL:P3D
CALSCALE:GREGORIAN
BEGIN:VEVENT
DTSTART:20250515T210000Z
DTEND:20250515T230000Z
X-MICROSOFT-CDO-ALLDAYEVENT:FALSE
SUMMARY:Pottstown Beacon of Hope Fundraiser at The Rivet
DESCRIPTION:Please join us for a night of food\, drinks and fun for a good cause. Pottstown Beacon of Hope will be hosting a fundraiser at The Rivet on High Street for all community members and business owners to meet our staff\, our Board of Directors and get to know more about our mission.
X-ALT-DESC;FMTTYPE=text/html:Please join us for a night of food\, drinks and fun for a good cause. Pottstown Beacon of Hope will be hosting a fundraiser at The Rivet on High Street for all community members and business owners to meet our staff\, our Board of Directors and get to know more about our mission.
LOCATION:The Rivet Canteen & Assembly 238 E. High Street (New York Plaza Building 1st Floor)
UID:e.2183.862033
SEQUENCE:3
DTSTAMP:20260421T113428Z
URL:https://business.tricountyareachamber.com/events/details/pottstown-beacon-of-hope-fundraiser-at-the-rivet-862033
END:VEVENT

END:VCALENDAR
