BEGIN:VCALENDAR
VERSION:2.0
PRODID:-//ChamberMaster//Event Calendar 2.0//EN
METHOD:PUBLISH
X-PUBLISHED-TTL:P3D
REFRESH-INTERVAL:P3D
CALSCALE:GREGORIAN
BEGIN:VEVENT
DTSTART:20230630T210000Z
DTEND:20230701T000000Z
X-MICROSOFT-CDO-ALLDAYEVENT:FALSE
SUMMARY:Pottstown Carousel Final Fridays
DESCRIPTION:Facebook
X-ALT-DESC;FMTTYPE=text/html:<a href="https://www.facebook.com/photo?fbid=544883764521688&amp\;set=a.474843328192399">Facebook</a>
LOCATION:
UID:e.2183.858627
SEQUENCE:3
DTSTAMP:20260422T152252Z
URL:https://business.tricountyareachamber.com/events/details/pottstown-carousel-final-fridays-858627
END:VEVENT

END:VCALENDAR
