BEGIN:VCALENDAR
VERSION:2.0
PRODID:-//ChamberMaster//Event Calendar 2.0//EN
METHOD:PUBLISH
X-PUBLISHED-TTL:P3D
REFRESH-INTERVAL:P3D
CALSCALE:GREGORIAN
BEGIN:VEVENT
DTSTART:20170429T170000Z
DTEND:20170429T190000Z
X-MICROSOFT-CDO-ALLDAYEVENT:FALSE
SUMMARY:Pottstown Celebrates Young Children and Pottstown YMCA Healthy Kids Day
DESCRIPTION:FREE Family centered community event with:  FREE Food\, fitness activities\, petting zoo\, Miller Keystone Bloodmobile\, mascots and much more.  Information and activity tables will be set up throughout the event for families to take advantage of.  Space is still available\, feel free to contact us for your table or activity spot.
X-ALT-DESC;FMTTYPE=text/html:<strong><span style="color:rgb(0\, 0\, 205)">FREE </span></strong><span style="color:rgb(0\, 0\, 205)">Family centered community event with:&nbsp\; FREE Food\, fitness activities\, petting zoo\, Miller Keystone Bloodmobile\, mascots and much more.&nbsp\; Information and activity tables will be set up throughout the event for families to take advantage of.&nbsp\; Space is still available\, feel free to contact us for your table or activity&nbsp\;spot.</span>
LOCATION:Pottstown High School 750 N Washington St Pottstown\, PA 19464
UID:e.2183.847469
SEQUENCE:3
DTSTAMP:20260420T183440Z
URL:https://business.tricountyareachamber.com/events/details/pottstown-celebrates-young-children-and-pottston-ymca-healthy-kids-day-847469
END:VEVENT

END:VCALENDAR
