BEGIN:VCALENDAR
VERSION:2.0
PRODID:-//ChamberMaster//Event Calendar 2.0//EN
METHOD:PUBLISH
X-PUBLISHED-TTL:P3D
REFRESH-INTERVAL:P3D
CALSCALE:GREGORIAN
BEGIN:VEVENT
DTSTART;VALUE=DATE:20200925
DTEND;VALUE=DATE:20201005
TRANSP:TRANSPARENT
X-MICROSOFT-CDO-ALLDAYEVENT:TRUE
SUMMARY:Pottstown Fall Family Challenge
DESCRIPTION:Fall Family Challenge Fundraiser\n\nLooking for a fun\, socially distanced activity for the whole family? Join us for the inaugural Family Challenge Fundraiser! This event is held in partnership with the Pottstown Children's Discovery Center. Earn points by visiting locations in Pottstown and completing fun challenges! We will ask you to take pictures as proof of where you went and what challenges you did. The family that earns the most points wins our grand prize!  We will also randomly award smaller prizes to participating families\, one for each location.\n\nOur location prizes range in value from $25-$100 each! The grand prize includes over $600 in gift cards\, event tickets\, and merchandise!\n\nThe procedure:\n\n\n	Purchase your $20 ticket below. Bask in the amazing feeling of supporting two wonderful Pottstown nonprofits.\n	On September 24\, you will receive an email with the list of locations and challenges. You have until Sunday\, October 4 to complete as many as you can.\n	Plan your route and decide what challenges you would like to complete.\n	Have fun with the challenges! Express your creativity. (The contest judges have bonus points to award for those who go the extra mile!)\n	After each challenge\, upload your photo using the form below. If you are going for bonus points\, also post the photo on Facebook OR Instagram\, making sure to tag ArtFusion 19464 and the Pottstown Children's Discovery Center so we are sure to see it. (In order for us to see and count your picture\, your Facebook post must be public or your Instagram account must be public.) We will acknowledge each submission with an email and each post with a comment\, so you know those points are yours!\n	Rack up the points and wait to see if you win the ultimate grand prize!\n\n\nRegister at https://artfusion19464.org/support/fundraisers/family-challenge/
X-ALT-DESC;FMTTYPE=text/html:<h2 style="box-sizing: border-box\; margin: 0px\; padding: 0px 0px 10px\; border: 0px\; outline: 0px\; font-size: 26px\; text-size-adjust: 100%\; vertical-align: baseline\; background: rgb(255\, 255\, 255)\; color: rgb(51\, 51\, 51)\; line-height: 1em\; font-weight: 500\; font-family: &quot\;Open Sans&quot\;\, Arial\, sans-serif\;">Fall Family Challenge Fundraiser</h2>\n\n<p style="box-sizing: border-box\; margin: 0px\; padding: 0px 0px 1em\; border: 0px\; outline: 0px\; font-size: 14px\; text-size-adjust: 100%\; vertical-align: baseline\; background: rgb(255\, 255\, 255)\; color: rgb(41\, 41\, 41)\; font-family: &quot\;Open Sans&quot\;\, Arial\, sans-serif\;">Looking for a fun\, socially distanced activity for the whole family? Join us for the inaugural Family Challenge Fundraiser! This event is held in partnership with the Pottstown Children&rsquo\;s Discovery Center. Earn points by visiting locations in Pottstown and completing fun challenges! We will ask you to take pictures as proof of where you went and what challenges you did. The family that earns the most points wins our grand prize!&nbsp\; We will also randomly award smaller prizes to participating families\, one for each location.</p>\n\n<p style="box-sizing: border-box\; margin: 0px\; padding: 0px 0px 1em\; border: 0px\; outline: 0px\; font-size: 14px\; text-size-adjust: 100%\; vertical-align: baseline\; background: rgb(255\, 255\, 255)\; color: rgb(41\, 41\, 41)\; font-family: &quot\;Open Sans&quot\;\, Arial\, sans-serif\;">Our location prizes range in value from $25-$100 each! The grand prize includes over $600 in gift cards\, event tickets\, and merchandise!</p>\n\n<p style="box-sizing: border-box\; margin: 0px\; padding: 0px\; border: 0px\; outline: 0px\; font-size: 14px\; text-size-adjust: 100%\; vertical-align: baseline\; background: rgb(255\, 255\, 255)\; color: rgb(41\, 41\, 41)\; font-family: &quot\;Open Sans&quot\;\, Arial\, sans-serif\;">The procedure:</p>\n\n<ul style="box-sizing: border-box\; margin: 0px\; padding: 0px 0px 1em 1em\; border: 0px\; outline: 0px\; font-size: 14px\; text-size-adjust: 100%\; vertical-align: baseline\; background: rgb(255\, 255\, 255)\; list-style-position: initial\; list-style-image: initial\; line-height: 26px\; color: rgb(41\, 41\, 41)\; font-family: &quot\;Open Sans&quot\;\, Arial\, sans-serif\;">\n	<li style="box-sizing: border-box\; margin: 0px\; padding: 0px\; border: 0px\; outline: 0px\; text-size-adjust: 100%\; vertical-align: baseline\; background: transparent\;">Purchase your $20 ticket below. Bask in the amazing feeling of supporting two wonderful Pottstown nonprofits.</li>\n	<li style="box-sizing: border-box\; margin: 0px\; padding: 0px\; border: 0px\; outline: 0px\; text-size-adjust: 100%\; vertical-align: baseline\; background: transparent\;">On September 24\, you will receive an email with the list of locations and challenges. You have until Sunday\, October 4 to complete as many as you can.</li>\n	<li style="box-sizing: border-box\; margin: 0px\; padding: 0px\; border: 0px\; outline: 0px\; text-size-adjust: 100%\; vertical-align: baseline\; background: transparent\;">Plan your route and decide what challenges you would like to complete.</li>\n	<li style="box-sizing: border-box\; margin: 0px\; padding: 0px\; border: 0px\; outline: 0px\; text-size-adjust: 100%\; vertical-align: baseline\; background: transparent\;">Have fun with the challenges! Express your creativity. (The contest judges have bonus points to award for those who go the extra mile!)</li>\n	<li style="box-sizing: border-box\; margin: 0px\; padding: 0px\; border: 0px\; outline: 0px\; text-size-adjust: 100%\; vertical-align: baseline\; background: transparent\;">After each challenge\, upload your photo using the form below. If you are going for bonus points\, also post the photo on Facebook OR Instagram\, making sure to tag ArtFusion 19464 and the Pottstown Children&rsquo\;s Discovery Center so we are sure to see it. (In order for us to see and count your picture\, your Facebook post must be public or your Instagram account must be public.) We will acknowledge each submission with an email and each post with a comment\, so you know those points are yours!</li>\n	<li style="box-sizing: border-box\; margin: 0px\; padding: 0px\; border: 0px\; outline: 0px\; text-size-adjust: 100%\; vertical-align: baseline\; background: transparent\;">Rack up the points and wait to see if you win the ultimate grand prize!</li>\n</ul>\n\n<div style="box-sizing: border-box\; margin: 0px\; padding: 0px\; border: 0px\; outline: 0px\; text-size-adjust: 100%\; vertical-align: baseline\; background: transparent\;">Register at&nbsp\;<a href="https://artfusion19464.org/support/fundraisers/family-challenge/">https://artfusion19464.org/support/fundraisers/family-challenge/</a></div>\n
LOCATION:
UID:e.2183.856341
SEQUENCE:3
DTSTAMP:20260425T214539Z
URL:https://business.tricountyareachamber.com/events/details/pottstown-fall-family-challenge-856341
END:VEVENT

END:VCALENDAR
