BEGIN:VCALENDAR
VERSION:2.0
PRODID:-//ChamberMaster//Event Calendar 2.0//EN
METHOD:PUBLISH
X-PUBLISHED-TTL:P3D
REFRESH-INTERVAL:P3D
CALSCALE:GREGORIAN
BEGIN:VEVENT
DTSTART:20170703T150000Z
DTEND:20170705T020000Z
X-MICROSOFT-CDO-ALLDAYEVENT:FALSE
SUMMARY:Pottstown Go Fourth Festival!
DESCRIPTION:Join us Monday\, July 3 and Tuesday\, July 4\, 2017 in Memorial Park for this amazing new Pottstown Community celebration!\n\n\n\n/https://www.facebook.com/PottstownGoFourth/\n\n\n\nDuring the festival\, we will have artist and craft vendors\, community groups\, great kids' activities\, artist demos\, a food trucks\, live entertainment and two laser light shows. There will also be a carnival operating rides on both days of the festival.\n\n\n\nFourth of July Live Entertainment Line-up (approx): Mobius8 - 9:30 pm Philadelphia Funk Authority - 7:30 pm Hector Rosado & Orchestra Hache - 5:30 pm Whiskeyhickon Boys - 3:30 pm Brian Fitzy - 1:30 pm Sunday Muse - 11:30 am
X-ALT-DESC;FMTTYPE=text/html:Join us Monday\, July 3 and Tuesday\, July 4\, 2017 in Memorial Park for this amazing new Pottstown Community celebration!<br />\n<br />\n/<a href="https://www.facebook.com/PottstownGoFourth/">https://www.facebook.com/PottstownGoFourth/</a><br />\n<br />\nDuring the festival\, we will have artist and craft vendors\, community groups\, great kids&rsquo\; activities\, artist demos\, a food trucks\, live entertainment and two laser light shows. There will also be a carnival operating rides on both days of the festival.<br />\n<br />\nFourth of July Live Entertainment Line-up (approx): Mobius8 - 9:30 pm Philadelphia Funk Authority - 7:30 pm Hector Rosado &amp\; Orchestra Hache - 5:30 pm Whiskeyhickon Boys - 3:30 pm Brian Fitzy - 1:30 pm Sunday Muse - 11:30 am
LOCATION:Pottstown Memorial Park
UID:e.2183.848716
SEQUENCE:3
DTSTAMP:20260420T233432Z
URL:https://business.tricountyareachamber.com/events/details/pottstown-go-fourth-festival-848716
END:VEVENT

END:VCALENDAR
