BEGIN:VCALENDAR
VERSION:2.0
PRODID:-//ChamberMaster//Event Calendar 2.0//EN
METHOD:PUBLISH
X-PUBLISHED-TTL:P3D
REFRESH-INTERVAL:P3D
CALSCALE:GREGORIAN
BEGIN:VEVENT
DTSTART:20171024T230000Z
DTEND:20171025T010000Z
X-MICROSOFT-CDO-ALLDAYEVENT:FALSE
SUMMARY:Pottstown Halloween Parade
DESCRIPTION:On Tuesday\, October 24\, about 350 children dressed in their finest costumes will march down High Street in the annual Pottstown Community Halloween Parade. The event is sponsored jointly by the Rotary Club of Pottstown\, the American Business Club (AMBUCS)\, and the Pottstown Parks and Recreation Department. They will be accompanied by the Pottstown and Pottsgrove High School and Middle School Marching Bands. The Boyertown Alumni Band and the Phillie Phanatic and a contingent from the Reading Royals will also make an appearance. The event starts at 7 p.m.\; with a rain date of Thursday\, October 26.\n\n\n\nThere will be a variety of decorated floats from local community groups and many fire engines. Prizes will also be awarded to the best floats. Organizations with floats must register with the Parks & Recreation Department\, Pottstown Borough Hall by 10/20/2017 4:00pm. Further information can be found at www.pottstown.org \n\n\n\nBeginning at 6:00-6:30 p.m. children dressed in costume will be judged in the parking area behind the Goodwill Fire Company located at High and Bailey Sts. Prizes will be awarded - Categories include Prettiest\, Scariest\, Most Original\, Best Halloween Theme\, and Best TV/Movie Character.\n\n\n\nFinancial support is provided by the Rotary and AMBUCS Clubs and their members\, Pottstown Department of Parks & Recreation. Contributions have also been received from other members of the community. Additional donations may be sent to the Rotary Club of Pottstown\, P.O. Box 227\, Pottstown\, PA 19464. Checks should be made out to the Pottstown Rotary Community Endowment Fund (PRCEF) a 501(c)3 Foundation. Contributions are tax deductable.
X-ALT-DESC;FMTTYPE=text/html:<span style="color: rgb(75\, 79\, 86)\; font-family: Helvetica\, Arial\, sans-serif\; font-size: 14px\; background-color: rgb(255\, 255\, 255)\;">On Tuesday\, October 24\, about 350 children dressed in their finest costumes will march down High Street in the annual Pottstown Community Halloween Parade. The event is sponsored jointly by the Rotary Club of Pottstown\, the American Business Club (AMBUCS)\, and the Pottstown Parks and Recreation Department. They will be accompanied by the Pottstown and Pottsgrove High School and Middle School Marching Bands. The Boyertown Alumni Band and the Phillie Phanatic and a contingent from the Reading Royals will also make an appearance. The event starts at 7 p.m.\; with a rain date of Thursday\, October 26.</span><br style="color: rgb(75\, 79\, 86)\; font-family: Helvetica\, Arial\, sans-serif\; font-size: 14px\; background-color: rgb(255\, 255\, 255)\;" />\n<br style="color: rgb(75\, 79\, 86)\; font-family: Helvetica\, Arial\, sans-serif\; font-size: 14px\; background-color: rgb(255\, 255\, 255)\;" />\n<span style="color: rgb(75\, 79\, 86)\; font-family: Helvetica\, Arial\, sans-serif\; font-size: 14px\; background-color: rgb(255\, 255\, 255)\;">There will be a variety of decorated floats from local community groups and many fire engines. Prizes will also&nbsp\;</span><span class="text_exposed_show" style="display: inline\; font-family: Helvetica\, Arial\, sans-serif\; color: rgb(75\, 79\, 86)\; font-size: 14px\; background-color: rgb(255\, 255\, 255)\;">be awarded to the best floats. Organizations with floats must register with the Parks &amp\; Recreation Department\, Pottstown Borough Hall by 10/20/2017 4:00pm. Further information can be found at&nbsp\;<a data-lynx-mode="async" data-lynx-uri="https://l.facebook.com/l.php?u=http%3A%2F%2Fwww.pottstown.org%2F&amp\;h=ATN8niccfUvzbkBWLblyva_uHgKGAf1STAMr7FuibUmHxisVa-7nwIjoPnzuQ4df0poh4n-FVDkcUqKwEt1GKpEvTO6GMdAkvoRcm15SLOJzOtnKu1NbpEDE38nF8NL2lU-MN3MGUD958xXgTOqctDhFSn4LtGnyyf5fUAD9rTFdtQ" href="http://www.pottstown.org/" rel="noopener nofollow" style="color: rgb(54\, 88\, 153)\; cursor: pointer\; text-decoration-line: none\; font-family: inherit\;" target="_blank">www.pottstown.org</a>&nbsp\;<br />\n<br />\nBeginning at 6:00-6:30 p.m. children dressed in costume will be judged in the parking area behind the Goodwill Fire Company located at High and Bailey Sts. Prizes will be awarded - Categories include Prettiest\, Scariest\, Most Original\, Best Halloween Theme\, and Best TV/Movie Character.<br />\n<br />\nFinancial support is provided by the Rotary and AMBUCS Clubs and their members\, Pottstown Department of Parks &amp\; Recreation. Contributions have also been received from other members of the community. Additional donations may be sent to the Rotary Club of Pottstown\, P.O. Box 227\, Pottstown\, PA 19464. Checks should be made out to the Pottstown Rotary Community Endowment Fund (PRCEF) a 501(c)3 Foundation. Contributions are tax deductable.</span>
LOCATION:High Street (Beginning at Bailey St.\, ending at Borough Hall) Pottstown\, PA 19464
UID:e.2183.848821
SEQUENCE:3
DTSTAMP:20260421T042718Z
URL:https://business.tricountyareachamber.com/events/details/pottstown-halloween-parade-848821
END:VEVENT

END:VCALENDAR
