BEGIN:VCALENDAR
VERSION:2.0
PRODID:-//ChamberMaster//Event Calendar 2.0//EN
METHOD:PUBLISH
X-PUBLISHED-TTL:P3D
REFRESH-INTERVAL:P3D
CALSCALE:GREGORIAN
BEGIN:VEVENT
DTSTART:20171109T220000Z
DTEND:20171110T000000Z
X-MICROSOFT-CDO-ALLDAYEVENT:FALSE
SUMMARY:Pottstown In Focus Short Film Festival
DESCRIPTION:Cocktail reception with music by Cordilia Arcay: The Antigua Jazz Quartet. \n\nScreenings from distinguished 2017 entries. Free event sponsored by Pottstown Parks and Rec. Come out and enjoy libations from Sly Fox Brewery\, and what movie would be complete without popcorn. This is a casual event to celebrate all our participants and the community. Ample free parking at our location just off Hanover St\, south of High St.\n\n\n\nMore information is found at www.pottstowninfocus.com
X-ALT-DESC;FMTTYPE=text/html:<em><strong>Cocktail reception with music by Cordilia Arcay: The Antigua Jazz Quartet. </strong></em><br />\nScreenings from distinguished 2017 entries. Free event sponsored by Pottstown Parks and Rec. Come out and enjoy libations from Sly Fox Brewery\, and what movie would be complete without popcorn. This is a casual event to celebrate all our participants and the community. Ample free parking at our location just off Hanover St\, south of High St.<br />\n<br />\n<strong>More information is found at <a href="http://www.pottstowninfocus.com">www.pottstowninfocus.com</a></strong>
LOCATION:Montgomery County Community College University Center 101 South Street Pottstown\, PA 19464
UID:e.2183.847703
SEQUENCE:3
DTSTAMP:20260421T061200Z
URL:https://business.tricountyareachamber.com/events/details/pottstown-in-focus-short-film-festival-847703
END:VEVENT

END:VCALENDAR
