BEGIN:VCALENDAR
VERSION:2.0
PRODID:-//ChamberMaster//Event Calendar 2.0//EN
METHOD:PUBLISH
X-PUBLISHED-TTL:P3D
REFRESH-INTERVAL:P3D
CALSCALE:GREGORIAN
BEGIN:VEVENT
DTSTART:20171110T230000Z
DTEND:20171111T010000Z
X-MICROSOFT-CDO-ALLDAYEVENT:FALSE
SUMMARY:Pottstown In Focus Short Film Festival
DESCRIPTION:Screenings continue with a FREE event at The Hill School\, including a screening of our 2016 Best Picture "Pine Tree" and "The Prodigy\," staring Pottstown native Maxwell Scott. Features Q&A with the film creators Adam Evans ("Pine Tree") and David Traverso and Maxwell Scott ("The Prodigy").\n\n\n\nMore information is found at www.pottstowninfocus.com
X-ALT-DESC;FMTTYPE=text/html:Screenings continue with a FREE event at The Hill School\, including a screening of our 2016 Best Picture &ldquo\;Pine Tree&rdquo\; and &ldquo\;The Prodigy\,&rdquo\; staring Pottstown native Maxwell Scott. Features Q&amp\;A with the film creators Adam Evans (&ldquo\;Pine Tree&rdquo\;) and David Traverso and Maxwell Scott (&ldquo\;The Prodigy&rdquo\;).<br />\n<br />\n<strong>More information is found at <a href="http://www.pottstowninfocus.com">www.pottstowninfocus.com</a></strong>
LOCATION:The Hill School Center for Performing Arts 766 Beech Street Pottstown\, PA 19464
UID:e.2183.848878
SEQUENCE:3
DTSTAMP:20260421T061159Z
URL:https://business.tricountyareachamber.com/events/details/pottstown-in-focus-short-film-festival-848878
END:VEVENT

END:VCALENDAR
