BEGIN:VCALENDAR
VERSION:2.0
PRODID:-//ChamberMaster//Event Calendar 2.0//EN
METHOD:PUBLISH
X-PUBLISHED-TTL:P3D
REFRESH-INTERVAL:P3D
CALSCALE:GREGORIAN
BEGIN:VEVENT
DTSTART:20171111T230000Z
DTEND:20171112T010000Z
X-MICROSOFT-CDO-ALLDAYEVENT:FALSE
SUMMARY:Pottstown In Focus Short Film Festival
DESCRIPTION:Our 2017 festival concludes with an elegant evening of award-winning entries shown on the big screen at Steel River. A semi-formal affair\, attendees are invited to dress up and step out for an evening of art and entertainment. The event is free\, but you'll need tickets to attend. Pick them up at the Parks and Rec. office: 100 E. High St. or call for details 484-610-970-6608\n\n\n\nMore information is found at www.pottstowninfocus.com
X-ALT-DESC;FMTTYPE=text/html:Our 2017 festival concludes with an elegant evening of award-winning entries shown on the big screen at Steel River. A semi-formal affair\, attendees are invited to dress up and step out for an evening of art and entertainment. The event is free\, but you&rsquo\;ll need tickets to attend. Pick them up at the Parks and Rec. office: 100 E. High St. or call for details 484-610-970-6608<br />\n<br />\n<strong>More information is found at <a href="http://www.pottstowninfocus.com">www.pottstowninfocus.com</a></strong>
LOCATION:Steel River Playhouse 245 East High Street Pottstown\, PA 19464
UID:e.2183.848879
SEQUENCE:3
DTSTAMP:20260421T061159Z
URL:https://business.tricountyareachamber.com/events/details/pottstown-in-focus-short-film-festival-848879
END:VEVENT

END:VCALENDAR
