BEGIN:VCALENDAR
VERSION:2.0
PRODID:-//ChamberMaster//Event Calendar 2.0//EN
METHOD:PUBLISH
X-PUBLISHED-TTL:P3D
REFRESH-INTERVAL:P3D
CALSCALE:GREGORIAN
BEGIN:VEVENT
DTSTART:20171212T133000Z
DTEND:20171212T153000Z
X-MICROSOFT-CDO-ALLDAYEVENT:FALSE
SUMMARY:Pottstown Investors Holiday Breakfast
DESCRIPTION:Hosted by Hobart's Run / The Hill School\n\n\n\nJoin us for a holiday networking breakfast where we will provide a brief update on real estate development opportunities.  Investors are invited to showcase photos or listings of their work in Pottstown. \n\nInvestors:  Please indicate on your RSVP if you plan on sharing photos and/ or listings of your work in Pottstown.  \n\nKindly RSVP by December 4\, 2017
X-ALT-DESC;FMTTYPE=text/html:<p style="text-align: center\;"><em><strong>Hosted by Hobart&#39\;s Run / The Hill School</strong></em></p>\n\n<p><br />\nJoin us for a holiday networking breakfast where we will&nbsp\;provide a brief update on real estate development opportunities. &nbsp\;Investors are invited to showcase photos or listings of their work in Pottstown.&nbsp\;</p>\n\n<p><em>Investors:</em> &nbsp\;Please indicate on your RSVP if you plan on sharing photos and/ or listings of your work in Pottstown. &nbsp\;</p>\n\n<p>Kindly&nbsp\;RSVP by December 4\, 2017&nbsp\;</p>\n
LOCATION:Hobart's Run Office 701 East High Street Pottstown\, PA 19464
UID:e.2183.849125
SEQUENCE:3
DTSTAMP:20260421T080512Z
URL:https://business.tricountyareachamber.com/events/details/pottstown-investors-holiday-breakfast-849125
END:VEVENT

END:VCALENDAR
