BEGIN:VCALENDAR
VERSION:2.0
PRODID:-//ChamberMaster//Event Calendar 2.0//EN
METHOD:PUBLISH
X-PUBLISHED-TTL:P3D
REFRESH-INTERVAL:P3D
CALSCALE:GREGORIAN
BEGIN:VEVENT
DTSTART:20260905T190000Z
DTEND:20260906T010000Z
X-MICROSOFT-CDO-ALLDAYEVENT:FALSE
SUMMARY:Pottstown Nights Car Show - Red Horse Motoring Club
DESCRIPTION:Join thousands of car enthusiasts on High Street for an evening of show-stopping vehicles\, live music\, great food\, and small-town community spirit. Free admission for spectators.
X-ALT-DESC;FMTTYPE=text/html:<span style="background-color:rgb(26\, 26\, 26)\; color:rgb(168\, 168\, 168)\; font-family:inter\,-apple-system\,blinkmacsystemfont\,segoe ui\,roboto\,sans-serif\; font-size:18px">Join thousands of car enthusiasts on High Street for an evening of show-stopping vehicles\, live music\, great food\, and small-town community spirit. Free admission for spectators.</span>
LOCATION:
UID:e.2183.864795
SEQUENCE:3
DTSTAMP:20260420T160539Z
URL:https://business.tricountyareachamber.com/events/details/pottstown-nights-car-show-red-horse-motoring-club-09-05-2026-864795
END:VEVENT

END:VCALENDAR
