BEGIN:VCALENDAR
VERSION:2.0
PRODID:-//ChamberMaster//Event Calendar 2.0//EN
METHOD:PUBLISH
X-PUBLISHED-TTL:P3D
REFRESH-INTERVAL:P3D
CALSCALE:GREGORIAN
BEGIN:VEVENT
DTSTART:20211011T213000Z
DTEND:20211012T003000Z
X-MICROSOFT-CDO-ALLDAYEVENT:FALSE
SUMMARY:Pottstown PAL's 15th Annual Food Festival
DESCRIPTION:Food\, Fun\, and Friendship! Join us on Monday\, October 11\, for Pottstown Area PAL's 15th annual Food Festival. The event is from 5:30 to 8:30 at Copperfield Inn in Limerick. Plenty of sample tastings provided by numerous restaurants\, bakeries and beverage distributors. A Silent Auction\, Drawings\, and live music by "Galena Brass" will also be part of the event. The Pre-sale ticket price is $20 and can be purchased on line at pottstownpal.org or by sending a check to 146 King St.\, Pottstown 19464. Tickets will also be available at the door for $25. Hope to see you there!
X-ALT-DESC;FMTTYPE=text/html:<span style="color: rgb(5\, 5\, 5)\; font-family: &quot\;Segoe UI Historic&quot\;\, &quot\;Segoe UI&quot\;\, Helvetica\, Arial\, sans-serif\; font-size: 15px\; white-space: pre-wrap\;">Food\, Fun\, and Friendship! Join us on Monday\, October 11\, for Pottstown Area PAL&rsquo\;s 15th annual Food Festival. The event is from 5:30 to 8:30 at Copperfield Inn in Limerick. Plenty of sample tastings provided by numerous restaurants\, bakeries and beverage distributors. A Silent Auction\, Drawings\, and live music by &ldquo\;Galena Brass&rdquo\; will also be part of the event. The Pre-sale ticket price is $20 and can be purchased on line at </span><span style="font-family: &quot\;Segoe UI Historic&quot\;\, &quot\;Segoe UI&quot\;\, Helvetica\, Arial\, sans-serif\; color: rgb(5\, 5\, 5)\; font-size: 15px\; white-space: pre-wrap\;"><a class="oajrlxb2 g5ia77u1 qu0x051f esr5mh6w e9989ue4 r7d6kgcz rq0escxv nhd2j8a9 nc684nl6 p7hjln8o kvgmc6g5 cxmmr5t8 oygrvhab hcukyx3x jb3vyjys rz4wbd8a qt6c0cv9 a8nywdso i1ao9s8h esuyzwwr f1sip0of lzcic4wl py34i1dx gpro0wi8" href="http://pottstownpal.org/?fbclid=IwAR2ng7B-KJjBfLzWopEkYxoP9LO8Z3ugK5JkWqYq_3CsobREtF5Kw5jiYgA" rel="nofollow noopener" role="link" style="color: var(--blue-link)\; cursor: pointer\; text-decoration-line: none\; outline: none\; list-style: none\; border-width: 0px\; border-style: initial\; border-color: initial\; padding: 0px\; margin: 0px\; touch-action: manipulation\; background-color: transparent\; text-align: inherit\; display: inline\; -webkit-tap-highlight-color: transparent\; box-sizing: border-box\; font-family: inherit\;" tabindex="0" target="_blank">pottstownpal.org</a></span><span style="color: rgb(5\, 5\, 5)\; font-family: &quot\;Segoe UI Historic&quot\;\, &quot\;Segoe UI&quot\;\, Helvetica\, Arial\, sans-serif\; font-size: 15px\; white-space: pre-wrap\;"> or by sending a check to 146 King St.\, Pottstown 19464. Tickets will also be available at the door for $25. Hope to see you there!</span>
LOCATION:Copperfield Inn in Limerick 594 West Ridge Pike Limerick\, PA 19468
UID:e.2183.856819
SEQUENCE:3
DTSTAMP:20260421T005951Z
URL:https://business.tricountyareachamber.com/events/details/pottstown-pal-s-15th-annual-food-festival-856819
END:VEVENT

END:VCALENDAR
