BEGIN:VCALENDAR
VERSION:2.0
PRODID:-//ChamberMaster//Event Calendar 2.0//EN
METHOD:PUBLISH
X-PUBLISHED-TTL:P3D
REFRESH-INTERVAL:P3D
CALSCALE:GREGORIAN
BEGIN:VEVENT
DTSTART:20170916T130000Z
DTEND:20170916T190000Z
X-MICROSOFT-CDO-ALLDAYEVENT:FALSE
SUMMARY:Pottstown Pet Fair
DESCRIPTION:Calling all animal lovers! 2017 will mark the 7th anniversary of the Pottstown Pet Fair\, and the event promises to be even bigger and better. The idea for the pet fair originated when employees in our Licensing and Inspections Department realized the need to bring attention to the homeless and neglected pets in our town. The 2016 Pet Fair attracted approximately 5\,000 people and had over 75 tables showcasing various shelters. Many animal adoption applications were completed\, and many animals found new homes. \n\n\n\nAs always we will feature a Blessing of the Animals\, vaccination clinic\, rescue organizations\, retail vedors\, K9 demonstration by Pottstown Police Department\, animal adoptions\, and various workshops.  Admittance to the Pet Fair is free!
X-ALT-DESC;FMTTYPE=text/html:<br />\n<span style="color: rgb(20\, 24\, 35)\; font-family: helvetica\, arial\, sans-serif\; font-size: 14px\; line-height: 18.7600002288818px\;"><span style="font-size:12px\;"><span style="font-family:arial\;">Calling all animal lovers! 2017 will mark the 7th anniversary of the Pottstown Pet Fair\, and the event promises to be even bigger and better. The idea for the pet fair originated when employees in our Licensing and Inspections Department realized the need to bring attention to the homeless and neglected pets in our town. The 2016 Pet Fair attracted approximately 5\,000 people and had over 75 tables showcasing various shelters. Many animal adoption applications were completed\, and many animals found new homes.&nbsp\;</span></span></span><br style="color: rgb(20\, 24\, 35)\; font-family: helvetica\, arial\, sans-serif\; font-size: 14px\; line-height: 18.7600002288818px\;" />\n<br style="color: rgb(20\, 24\, 35)\; font-family: helvetica\, arial\, sans-serif\; font-size: 14px\; line-height: 18.7600002288818px\;" />\n<span style="font-size:12px\;"><span style="font-family:arial\;"><span style="color: rgb(20\, 24\, 35)\; line-height: 18.7600002288818px\;">As always we will feature a Blessing of the Animals\, vaccination clinic\, rescue organizations\, retail vedors\, K9 demonstration by Pottstown Police Department\,&nbsp\;</span><span class="text_exposed_show" style="display: inline\; color: rgb(20\, 24\, 35)\; line-height: 18.7600002288818px\;">animal adoptions\, and various workshops. &nbsp\;Admittance to the Pet Fair is free!</span></span></span>
LOCATION:Memorial Park 75 W. King St. Pottstown\, PA 19464
UID:e.2183.847581
SEQUENCE:3
DTSTAMP:20260421T025035Z
URL:https://business.tricountyareachamber.com/events/details/pottstown-pet-fair-847581
END:VEVENT

END:VCALENDAR
