BEGIN:VCALENDAR
VERSION:2.0
PRODID:-//ChamberMaster//Event Calendar 2.0//EN
METHOD:PUBLISH
X-PUBLISHED-TTL:P3D
REFRESH-INTERVAL:P3D
CALSCALE:GREGORIAN
BEGIN:VEVENT
DTSTART:20250101T163000Z
DTEND:20250101T183000Z
X-MICROSOFT-CDO-ALLDAYEVENT:FALSE
SUMMARY:Pottstown Polar Run 5k
DESCRIPTION:Start 2025 off right by joining us for our Polar Run 5k or 2.25 race and fun run. The Polar Run has been created as a key component in an overall effort to raise awareness throughout the tri-county area of the importance of being physically active. This 5k or 2.25 race or fun run/walk is being held in conjunction with the Polar Plunge hosted by Pottstown Parks & Recreation.
X-ALT-DESC;FMTTYPE=text/html:Start 2025 off right by joining us for our Polar Run 5k or 2.25 race and fun run. The Polar Run has been created as a key component in an overall effort to raise awareness throughout the tri-county area of the importance of being physically active. This 5k or 2.25 race or fun run/walk is being held in conjunction with the Polar Plunge hosted by Pottstown Parks &amp\; Recreation.
LOCATION:140 College Dr. Pottstown PA 19464
UID:e.2183.861612
SEQUENCE:3
DTSTAMP:20260421T162433Z
URL:https://business.tricountyareachamber.com/events/details/pottstown-polar-run-5k-861612
END:VEVENT

END:VCALENDAR
