BEGIN:VCALENDAR
VERSION:2.0
PRODID:-//ChamberMaster//Event Calendar 2.0//EN
METHOD:PUBLISH
X-PUBLISHED-TTL:P3D
REFRESH-INTERVAL:P3D
CALSCALE:GREGORIAN
BEGIN:VEVENT
DTSTART:20171122T230000Z
DTEND:20171123T020000Z
X-MICROSOFT-CDO-ALLDAYEVENT:FALSE
SUMMARY:Pottstown Pride Mixer
DESCRIPTION:The Pottstown Pride Society invites you to Celebrate Good in Pottstown at the Pottstown Pride Mixer! Kick off your Thanksgiving eve celebration by sharing a laugh\, playing a game or having a light adult beverage with Pottstown Alumni and other Community Enthusiasts. \n\n\n\nFood will be catered by @107. Raffle prizes and other gifts will be awarded during the event. A donation of $10 is requested at the door. New "We Are Pottstown" apparel will also be on sale.\n\n\n\nAll proceeds benefit the Pottstown Pride Society\, a committee of the Foundation for Pottstown Education\, whose mission is to support networking\, marketing\, and fundraising for the Foundation for Pottstown Education through the passionate and positive promotion of students\, faculty\, alumni\, and the Pottstown community.\n\n\n\nSpread the word\, the Pottstown Pride Mixer will be a fun and engaging event! \n\n\n\nBig thanks to the Foundation for Pottstown Education and @107 for sponsoring the event.
X-ALT-DESC;FMTTYPE=text/html:<span style="color: rgb(75\, 79\, 86)\; font-family: Helvetica\, Arial\, sans-serif\; font-size: 14px\; background-color: rgb(255\, 255\, 255)\;">The Pottstown Pride Society invites you to Celebrate Good in Pottstown at the Pottstown Pride Mixer! Kick off your Thanksgiving eve celebration by sharing a laugh\, playing a game or having a light adult beverage with Pottstown Alumni and other Community Enthusiasts.&nbsp\;</span><br style="color: rgb(75\, 79\, 86)\; font-family: Helvetica\, Arial\, sans-serif\; font-size: 14px\; background-color: rgb(255\, 255\, 255)\;" />\n<br style="color: rgb(75\, 79\, 86)\; font-family: Helvetica\, Arial\, sans-serif\; font-size: 14px\; background-color: rgb(255\, 255\, 255)\;" />\n<span style="color: rgb(75\, 79\, 86)\; font-family: Helvetica\, Arial\, sans-serif\; font-size: 14px\; background-color: rgb(255\, 255\, 255)\;">Food will be catered by @107. Raffle prizes and other gifts will be awarded during the event. A donation of $10 is requested at the door. New &quot\;We Are Pottstown&quot\; apparel will also be on sale.</span><br style="color: rgb(75\, 79\, 86)\; font-family: Helvetica\, Arial\, sans-serif\; font-size: 14px\; background-color: rgb(255\, 255\, 255)\;" />\n<br style="color: rgb(75\, 79\, 86)\; font-family: Helvetica\, Arial\, sans-serif\; font-size: 14px\; background-color: rgb(255\, 255\, 255)\;" />\n<span style="color: rgb(75\, 79\, 86)\; font-family: Helvetica\, Arial\, sans-serif\; font-size: 14px\; background-color: rgb(255\, 255\, 255)\;">All proceeds benefit the Pottstown Pride Society\, a committee of the Foundation for Pottstown Education\, whose mission is to support networking\, marketing\, and fundraising for the Foundation for Pottstown Education through the passionate and positive promotion of students\, faculty\, alumni\, and the Pottstown community.</span><br style="color: rgb(75\, 79\, 86)\; font-family: Helvetica\, Arial\, sans-serif\; font-size: 14px\; background-color: rgb(255\, 255\, 255)\;" />\n<br style="color: rgb(75\, 79\, 86)\; font-family: Helvetica\, Arial\, sans-serif\; font-size: 14px\; background-color: rgb(255\, 255\, 255)\;" />\n<span style="color: rgb(75\, 79\, 86)\; font-family: Helvetica\, Arial\, sans-serif\; font-size: 14px\; background-color: rgb(255\, 255\, 255)\;">Spread the word\, the Pottstown Pride Mixer will be a fun and engaging event!&nbsp\;</span><br style="color: rgb(75\, 79\, 86)\; font-family: Helvetica\, Arial\, sans-serif\; font-size: 14px\; background-color: rgb(255\, 255\, 255)\;" />\n<br style="color: rgb(75\, 79\, 86)\; font-family: Helvetica\, Arial\, sans-serif\; font-size: 14px\; background-color: rgb(255\, 255\, 255)\;" />\n<span style="color: rgb(75\, 79\, 86)\; font-family: Helvetica\, Arial\, sans-serif\; font-size: 14px\; background-color: rgb(255\, 255\, 255)\;">Big thanks to the Foundation for Pottstown Education and @107 for sponsoring the event.</span>
LOCATION:@107 107 East High Street Pottstown\, PA 19464
UID:e.2183.848875
SEQUENCE:3
DTSTAMP:20260421T060815Z
URL:https://business.tricountyareachamber.com/events/details/pottstown-pride-mixer-848875
END:VEVENT

END:VCALENDAR
