BEGIN:VCALENDAR
VERSION:2.0
PRODID:-//ChamberMaster//Event Calendar 2.0//EN
METHOD:PUBLISH
X-PUBLISHED-TTL:P3D
REFRESH-INTERVAL:P3D
CALSCALE:GREGORIAN
BEGIN:VEVENT
DTSTART:20170322T153000Z
DTEND:20170322T173000Z
X-MICROSOFT-CDO-ALLDAYEVENT:FALSE
SUMMARY:Pottstown Progress Luncheon Presented by Pottstown Area Industrial Development
DESCRIPTION:Online registration will close at 12 noon on Thursday\, March 16 - please call 610.326.2900 after this time to register. \n\n\n\nJoin us for a look at the progress taking place within the Pottstown community!\n\n\n\nProud of our past\, confident in our future!\n\n\n\nLearn - "Why Pottstown?"\n\nPresentations Highlighting:\n\n	Community Collaborations...\n	Redevelopment...\n	Investment...\n	So much more!\n\n\n\nSOLD OUT - Pottstown Assets Expo Showcasing:\n\n\n	Tourism\n	Non-profits\n	Special Events\n	Businesses\n	Renderings of Projects\n\nExhibitors must be businesses located in Pottstown and must purchase a luncheon ticket. Expo tables are free for Members\, and $50 for non-members. This is a tabletop expo - expo tables are sold out!\n\n\n\nClick here to view a pdf of the event flyer.
X-ALT-DESC;FMTTYPE=text/html:<span style="font-size:16px\;"><span style="font-family:arial\;"><strong>Online registration will close at <u>12 noon on Thursday\, March 16</u> - please call 610.326.2900 after this time to register.&nbsp\;</strong></span></span><br />\n<br />\nJoin us for a look at the progress taking place within the Pottstown community!<br />\n<br />\n<strong><em><span style="color:#040438\;"><span style="font-family:tahoma\,sans-serif\;"><span style="font-size:10.0pt\;">Proud of our past\, confident in our future!</span></span></span></em></strong><br />\n<br />\n<strong><span style="color:#040438\;"><span style="font-family:tahoma\,sans-serif\;"><span style="font-size:10.0pt\;">Learn -&nbsp\;</span></span></span></strong><strong><span style="color:#040438\;"><span style="font-family:tahoma\,sans-serif\;"><span style="font-size:10.0pt\;">&quot\;Why Pottstown?&quot\;<br />\nPresentations Highlighting:</span></span></span></strong>\n<ul>\n	<li align="left" style="color:#040438\;"><span color="#040438"><span style="font-family:tahoma\,sans-serif\;"><span style="font-size:10.0pt\;">Community Collaborations...</span></span></span></li>\n	<li align="left" style="color:#040438\;"><span color="#040438"><span style="font-family:tahoma\,sans-serif\;"><span style="font-size:10.0pt\;">Redevelopment...</span></span></span></li>\n	<li align="left" style="color:#040438\;"><span color="#040438"><span style="font-family:tahoma\,sans-serif\;"><span style="font-size:10.0pt\;">Investment...</span></span></span></li>\n	<li align="left" style="color:#040438\;"><span color="#040438"><span style="font-family:tahoma\,sans-serif\;"><span style="font-size:10.0pt\;">So much more!</span></span></span></li>\n</ul>\n<br />\n<span style="font-size:14px\;"><span style="font-family:arial\;"><strong><span color="#040438"><span style="color:#FF0000\;">SOLD OUT -&nbsp\;</span>Pottstown Assets Expo&nbsp\;</span>Showcasing:</strong></span></span>\n\n<ul>\n	<li align="left" style="color:#333333\;"><span color="#040438"><span style="font-family:tahoma\,sans-serif\;"><span style="font-size:10.0pt\;">Tourism</span></span></span></li>\n	<li align="left" style="color:#333333\;"><span color="#040438"><span style="font-family:tahoma\,sans-serif\;"><span style="font-size:10.0pt\;">Non-profits</span></span></span></li>\n	<li align="left" style="color:#333333\;"><span color="#040438"><span style="font-family:tahoma\,sans-serif\;"><span style="font-size:10.0pt\;">Special Events</span></span></span></li>\n	<li align="left" style="color:#333333\;"><span color="#040438"><span style="font-family:tahoma\,sans-serif\;"><span style="font-size:10.0pt\;">Businesses</span></span></span></li>\n	<li align="left" style="color:#333333\;"><span color="#040438"><span style="font-family:tahoma\,sans-serif\;"><span style="font-size:10.0pt\;">Renderings of Projects</span></span></span></li>\n</ul>\n<span style="color:#333333\;"><span style="font-family:tahoma\,sans-serif\;"><span style="font-size:10.0pt\;">Exhibitors must be businesses located in Pottstown and must purchase a luncheon ticket. Expo tables are free for Members\, and $50 for non-members. This is a tabletop expo - </span></span></span><strong><span style="color:#FF0000\;"><span style="font-family:tahoma\,sans-serif\;"><span style="font-size:10.0pt\;">expo tables are sold out!</span></span></span></strong><br />\n<br />\n<span style="color:#333333\;"><span style="font-family:tahoma\,sans-serif\;"><span style="font-size:10.0pt\;"><span style="font-size:18px\;"><a href="https://chambermaster.blob.core.windows.net/userfiles/UserFiles/chambers/2183/File/PottstownProgressFlyerMarch.pdf">Click here to view a pdf of the event flyer.</a> </span></span></span></span><br />\n&nbsp\;
LOCATION:Sunnybrook Ballroom 50 Sunnybrook Road Pottstown\, PA 19464
UID:e.2183.847395
SEQUENCE:3
DTSTAMP:20260420T164206Z
URL:https://business.tricountyareachamber.com/events/details/pottstown-progress-luncheon-presented-by-pottstown-area-industrial-development-847395
END:VEVENT

END:VCALENDAR
