BEGIN:VCALENDAR
VERSION:2.0
PRODID:-//ChamberMaster//Event Calendar 2.0//EN
METHOD:PUBLISH
X-PUBLISHED-TTL:P3D
REFRESH-INTERVAL:P3D
CALSCALE:GREGORIAN
BEGIN:VEVENT
DTSTART:20210519T213000Z
DTEND:20210519T233000Z
X-MICROSOFT-CDO-ALLDAYEVENT:FALSE
SUMMARY:Pottstown Rotary Club Business to Business Mixer
DESCRIPTION:A Business to Business Mixer Sponsored by the Pottstown Rotary Club\n\nBuild Relationships Before You Need Them
X-ALT-DESC;FMTTYPE=text/html:A Business to Business Mixer Sponsored by the Pottstown Rotary Club<br />\nBuild Relationships Before You Need Them<br />\n&nbsp\;
LOCATION:The Alley on High Street 228 East High Street Pottstown\, PA19464
UID:e.2183.856557
SEQUENCE:3
DTSTAMP:20260425T103938Z
URL:https://business.tricountyareachamber.com/events/details/pottstown-rotary-club-business-to-business-mixer-856557
END:VEVENT

END:VCALENDAR
