BEGIN:VCALENDAR
VERSION:2.0
PRODID:-//ChamberMaster//Event Calendar 2.0//EN
METHOD:PUBLISH
X-PUBLISHED-TTL:P3D
REFRESH-INTERVAL:P3D
CALSCALE:GREGORIAN
BEGIN:VEVENT
DTSTART:20220424T140000Z
DTEND:20220424T190000Z
X-MICROSOFT-CDO-ALLDAYEVENT:FALSE
SUMMARY:Pottstown Spring Planting
DESCRIPTION:The Pottstown Tree Tenders will be planting 15 trees in Riverfront Park\, 100 College Drive\, on April 24 between 10 a.m. and 3 p.m. in conjunction with Pottstown borough. The trees are replacements for the ash trees that were removed due to Emerald Ash Borer. \n\nVolunteers should be willing to devote at least 3 hours to this effort as that is the time needed to be instructed and plant at least 1 tree. Volunteers will work in groups of 2-3 people per tree.\n\nWe are planting these trees along the wooded pathway between the eastern and western parking areas.\n\nVolunteers must be vaccinated against Covid and willing to show proof of vaccination. \n\nVolunteers should be comfortable doing moderate to heavy lifting and digging. \n\nBring a hat\, work gloves that can withstand damp conditions\, and wear shoes and clothes that are comfortable to work in. The planting site is a natural area that can get muddy in wet weather.\n\nLight snacks and water/drinks will be available for free to all volunteers.
X-ALT-DESC;FMTTYPE=text/html:<div style="box-sizing: border-box\; color: rgb(55\, 58\, 60)\; font-family: &quot\;Open Sans&quot\;\, -apple-system\, BlinkMacSystemFont\, &quot\;Segoe UI&quot\;\, Roboto\, &quot\;Helvetica Neue&quot\;\, Arial\, sans-serif\, &quot\;Apple Color Emoji&quot\;\, &quot\;Segoe UI Emoji&quot\;\, &quot\;Segoe UI Symbol&quot\;\; font-size: 16px\; background-color: rgb(247\, 248\, 248)\;">The Pottstown Tree Tenders will be planting 15 trees in Riverfront Park\, 100 College Drive\, on April 24 between 10 a.m. and 3 p.m. in conjunction with Pottstown borough. The trees are replacements for the ash trees that were removed due to Emerald Ash Borer.&nbsp\;</div>\n\n<div style="box-sizing: border-box\; color: rgb(55\, 58\, 60)\; font-family: &quot\;Open Sans&quot\;\, -apple-system\, BlinkMacSystemFont\, &quot\;Segoe UI&quot\;\, Roboto\, &quot\;Helvetica Neue&quot\;\, Arial\, sans-serif\, &quot\;Apple Color Emoji&quot\;\, &quot\;Segoe UI Emoji&quot\;\, &quot\;Segoe UI Symbol&quot\;\; font-size: 16px\; background-color: rgb(247\, 248\, 248)\;">Volunteers should be willing to devote at least 3 hours to this effort as that is the time needed to be instructed and plant at least 1 tree. Volunteers will work in groups of 2-3 people per tree.<br style="box-sizing: border-box\;" />\nWe are planting these trees along the wooded pathway between the eastern and western parking areas.<br style="box-sizing: border-box\;" />\nVolunteers must be vaccinated against Covid and willing to show proof of vaccination.&nbsp\;<br style="box-sizing: border-box\;" />\nVolunteers should be comfortable doing moderate to heavy lifting and digging.&nbsp\;<br style="box-sizing: border-box\;" />\nBring a hat\, work gloves that can withstand damp conditions\, and wear shoes and clothes that are comfortable to work in. The planting site is a natural area that can get muddy in wet weather.<br style="box-sizing: border-box\;" />\nLight snacks and water/drinks will be available for free to all volunteers.</div>\n
LOCATION:Riverfront Park\, 100 College Drive Pottstown\, PA 19464
UID:e.2183.857666
SEQUENCE:3
DTSTAMP:20260424T185014Z
URL:https://business.tricountyareachamber.com/events/details/pottstown-spring-planting-857666
END:VEVENT

END:VCALENDAR
