BEGIN:VCALENDAR
VERSION:2.0
PRODID:-//ChamberMaster//Event Calendar 2.0//EN
METHOD:PUBLISH
X-PUBLISHED-TTL:P3D
REFRESH-INTERVAL:P3D
CALSCALE:GREGORIAN
BEGIN:VEVENT
DTSTART;VALUE=DATE:20170214
DTEND;VALUE=DATE:20170215
TRANSP:TRANSPARENT
X-MICROSOFT-CDO-ALLDAYEVENT:TRUE
SUMMARY:Pottstown YMCA Valentine's Day Special
DESCRIPTION:February 14\, 2017\n\nFeel the Love with\n\nNo Joiner Fee \n\nFor new members of the Pottstown YMCA
X-ALT-DESC;FMTTYPE=text/html:<span style="font-size:16px"><span style="font-family:cachet book">February 14\, 2017</span><br />\n<span style="font-family:cachet book">Feel the Love with</span><br />\n<span style="font-family:cachet book">No Joiner Fee </span><br />\n<span style="font-family:cachet book">For new members of the Pottstown YMCA</span></span><br />\n&nbsp\;
LOCATION:Pottstown YMCA 724 N. Adams Street Pottstown\, PA 19464
UID:e.2183.847487
SEQUENCE:3
DTSTAMP:20260420T152050Z
URL:https://business.tricountyareachamber.com/events/details/pottstown-ymca-valentine-s-day-special-847487
END:VEVENT

END:VCALENDAR
