BEGIN:VCALENDAR
VERSION:2.0
PRODID:-//ChamberMaster//Event Calendar 2.0//EN
METHOD:PUBLISH
X-PUBLISHED-TTL:P3D
REFRESH-INTERVAL:P3D
CALSCALE:GREGORIAN
BEGIN:VEVENT
DTSTART:20170201T133000Z
DTEND:20170201T150000Z
X-MICROSOFT-CDO-ALLDAYEVENT:FALSE
SUMMARY:Power Networking
DESCRIPTION:Build your business contacts and promote your products and services!  Structured and fast paced\, this NETWORKING opportunity allows participants to interact one-on-one for a set period of time with other Chamber members.  Bring plenty of business cards.  This event is limited to 28 participants (one per company).\n\n\n\nMembers Only\; Registration Required
X-ALT-DESC;FMTTYPE=text/html:<span style="font-family:times new roman\,serif\;"><span style="font-size:12.0pt\;">Build your business contacts and promote your products and services!&nbsp\; Structured and fast paced\, this <strong>NETWORKING</strong> opportunity allows participants to interact one-on-one for a set period of time with other Chamber members.&nbsp\; Bring plenty of business cards<strong>.&nbsp\; This event is limited to 28 participants (one per company).</strong></span></span><br />\n<br />\n<span style="font-size:14px\;"><span style="font-family:arial\;"><span style="color:#FF0000\;"><span style="font-size:12px\;">Members Only\; Registration Required</span></span></span></span>
LOCATION:TriCounty Area Chamber of Commerce 152 E. High St.\, Suite 360 Pottstown\, PA 19464
UID:e.2183.847379
SEQUENCE:3
DTSTAMP:20260420T163924Z
URL:https://business.tricountyareachamber.com/events/details/power-networking-847379
END:VEVENT

END:VCALENDAR
