BEGIN:VCALENDAR
VERSION:2.0
PRODID:-//ChamberMaster//Event Calendar 2.0//EN
METHOD:PUBLISH
X-PUBLISHED-TTL:P3D
REFRESH-INTERVAL:P3D
CALSCALE:GREGORIAN
BEGIN:VEVENT
DTSTART:20160314T123000Z
DTEND:20160314T140000Z
X-MICROSOFT-CDO-ALLDAYEVENT:FALSE
SUMMARY:Power Networking at Breakfast
DESCRIPTION:This is your chance to make new business contacts\, and promote your products and services as you NETWORK full speed ahead meeting face-to-face with other Chamber members.  This event is limited to 28 participants   one per company (first to register).  Bring plenty of business cards.  A Continental Breakfast will be available.\n\n\n\nMembers Only\; Registration Required
X-ALT-DESC;FMTTYPE=text/html:<span style="font-size:14px\;"><span style="font-family:arial\;">This is your chance to&nbsp\;make new business contacts\, and&nbsp\;promote your products and services as you <strong>NETWORK</strong> full speed ahead meeting face-to-face with other Chamber members.&nbsp\; This event is limited to 28 participants &ndash\; one per company (first to register).&nbsp\; Bring plenty of business cards.&nbsp\; A Continental Breakfast will be available.<br />\n<br />\n<span style="color:#FF0000\;"><span style="font-size:12px\;">Members Only\; Registration Required</span></span></span></span>
LOCATION:TriCounty Area Chamber of Commerce 152 E. High St.\, Suite 360 Pottstown\, PA 19464
UID:e.2183.845556
SEQUENCE:3
DTSTAMP:20260425T174851Z
URL:https://business.tricountyareachamber.com/events/details/power-networking-at-breakfast-03-14-2016-845556
END:VEVENT

END:VCALENDAR
