BEGIN:VCALENDAR
VERSION:2.0
PRODID:-//ChamberMaster//Event Calendar 2.0//EN
METHOD:PUBLISH
X-PUBLISHED-TTL:P3D
REFRESH-INTERVAL:P3D
CALSCALE:GREGORIAN
BEGIN:VEVENT
DTSTART:20210111T160000Z
DTEND:20210111T170000Z
X-MICROSOFT-CDO-ALLDAYEVENT:FALSE
SUMMARY:Preparing for a Small Business Tax Filing
DESCRIPTION:You have started your business\, now what? Grab a coffee and join us for this morning webinar to discuss such topics as - What do I need when I visit my accountant? What can I do to help reduce my tax bill for this year? What are the different ways small businesses file taxes and what is best for me? What do I have to do now? And finally - Is that PPP loan taxable? Jacqueline M. Gleason CPA will go over all these topics and more to help the aspiring entrepreneurs get a handle on all tax related subjects!\n\n\n\nPresented by SCORE TriCounty and J. Gleason Associates.
X-ALT-DESC;FMTTYPE=text/html:<span style="color: rgb(35\, 35\, 51)\; font-family: Lato\, Helvetica\, Arial\; font-size: 14px\; background-color: rgb(255\, 255\, 255)\;">You have started your business\, now what? Grab a coffee and join us for this morning webinar to discuss such topics as - What do I need when I visit my accountant? What can I do to help reduce my tax bill for this year? What are the different ways small businesses file taxes and what is best for me? What do I have to do now? And finally - Is that PPP loan taxable? Jacqueline M. Gleason CPA will go over all these topics and more to help the aspiring entrepreneurs get a handle on all tax related subjects!<br />\n<br />\nPresented by SCORE TriCounty and J. Gleason Associates.</span>
LOCATION:Webinar
UID:e.2183.856444
SEQUENCE:3
DTSTAMP:20260425T155013Z
URL:https://business.tricountyareachamber.com/events/details/preparing-for-a-small-business-tax-filing-856444
END:VEVENT

END:VCALENDAR
