BEGIN:VCALENDAR
VERSION:2.0
PRODID:-//ChamberMaster//Event Calendar 2.0//EN
METHOD:PUBLISH
X-PUBLISHED-TTL:P3D
REFRESH-INTERVAL:P3D
CALSCALE:GREGORIAN
BEGIN:VEVENT
DTSTART:20150914T150000Z
DTEND:20150914T160000Z
X-MICROSOFT-CDO-ALLDAYEVENT:FALSE
SUMMARY:Pro Business Council Meeting
DESCRIPTION:Representative Tom Quigley (R-146th District) will be out guest at this event. We would like to invite any Chamber Members interested in hearing his remarks or speaking with him to join us.
X-ALT-DESC;FMTTYPE=text/html:<br />\n<strong>Representative Tom Quigley</strong> (R-146th District) will be out guest at this event. We would like to invite any Chamber Members interested in hearing his remarks or speaking with him to join us.
LOCATION:TriCounty Area Chamber of Commerce 152 E. High St.\, Suite 360 Pottstown\, PA 19464 Note: There is limited parking available in the lot at the Security Trust Building at 152 High St. You must have a permit to park in a reserved space or you may be ticketed. Parking is available on High St. for up to 3 hours at no charge\, or in the Freight Station Municipal lot\, across the railroad tracks (enter off Hanover St.) for 10 per hour.
UID:e.2183.845082
SEQUENCE:3
DTSTAMP:20260426T025033Z
URL:https://business.tricountyareachamber.com/events/details/pro-business-council-meeting-09-14-2015-845082
END:VEVENT

END:VCALENDAR
