BEGIN:VCALENDAR
VERSION:2.0
PRODID:-//ChamberMaster//Event Calendar 2.0//EN
METHOD:PUBLISH
X-PUBLISHED-TTL:P3D
REFRESH-INTERVAL:P3D
CALSCALE:GREGORIAN
BEGIN:VEVENT
DTSTART:20160427T210000Z
DTEND:20160427T230000Z
X-MICROSOFT-CDO-ALLDAYEVENT:FALSE
SUMMARY:Progressive Business Card Exchange
DESCRIPTION:Join us for fun and fellowship as we visit these Chamber Members located in the Limerick Square Shopping Center\, Royersford for a progressive NETWORKING event.  Participants will begin at American Heritage Federal Credit Union where they will get their name tags and be welcomed with a special signature drink.  After visiting there\, they will proceed to the AAA building for a short overview and then conclude the tour at MAXOUT Strength Studio for light refreshments.  Bring plenty of business cards as each of the sponsors will be drawing for a door prize at their own locations.\n\n\n\nMembers Only!\n\nReservations Appreciated
X-ALT-DESC;FMTTYPE=text/html:<span style="font-size:14px\;"><span style="font-family:times new roman\,serif\;">Join us for fun and fellowship as we visit these Chamber Members located in the Limerick Square Shopping Center\, Royersford for a progressive <strong>NETWORKING</strong> event.&nbsp\; Participants will begin at <strong>American Heritage Federal Credit</strong> <strong>Union</strong> where they will get their name tags and be <strong>welcomed</strong> with a special <strong>signature drink</strong>.&nbsp\; After visiting there\, they will proceed to the <strong>AAA</strong> building for a short overview and then conclude the tour at <strong>MAXOUT Strength Studio</strong> for light refreshments.&nbsp\; Bring plenty of business cards as each of the sponsors will be drawing for a door prize at their own locations.<br />\n<br />\n<span style="font-size:12px\;"><span style="color:#FF0000\;">Members Only!<br />\nReservations Appreciated</span></span></span></span>
LOCATION:Limerick Square Shopping Center 70 Buckwalter Road Royersford\, PA 19468
UID:e.2183.845557
SEQUENCE:3
DTSTAMP:20260425T160733Z
URL:https://business.tricountyareachamber.com/events/details/progressive-business-card-exchange-04-27-2016-845557
END:VEVENT

END:VCALENDAR
