BEGIN:VCALENDAR
VERSION:2.0
PRODID:-//ChamberMaster//Event Calendar 2.0//EN
METHOD:PUBLISH
X-PUBLISHED-TTL:P3D
REFRESH-INTERVAL:P3D
CALSCALE:GREGORIAN
BEGIN:VEVENT
DTSTART:20160726T200000Z
DTEND:20160726T220000Z
X-MICROSOFT-CDO-ALLDAYEVENT:FALSE
SUMMARY:Progressive Restaurant Networking Tour
DESCRIPTION:Due to the positive feedback from last year's event\, we will again be visiting Chamber Member restaurants in downtown Pottstown for a sampling of light refreshments. Our tour will include: Beverly's Pastry Shop\; Connections on High\, Inc.\; Grumpy's Handcarved Sandwiches\; and Lily's Grill!\n\n\n\nPlease arrive at the Chamber Office by 4 PM so we can proceed promptly from here.\n\n\n\nReservations appreciated.\n\n\n\nPlease recognize the fact that our sponsors are incurring an expense to host this event. Please be mindful of this when you register and your ability to fulfill your reservation.\n\n\n\nMembers Only
X-ALT-DESC;FMTTYPE=text/html:<title></title>\n<p><span style="font-size:12px\;"><span style="font-family:arial\;">Due to the positive feedback from last year&#39\;s event\, we will again be visiting Chamber Member restaurants in downtown Pottstown for a sampling of light refreshments. Our tour will include: <strong>Beverly&#39\;s Pastry Shop</strong>\; <strong>Connections on High\, Inc.</strong>\; <strong>Grumpy&#39\;s Handcarved Sandwiches</strong>\; and <strong>Lily&#39\;s Grill</strong>!<br />\n<br />\nPlease arrive at the Chamber Office by 4 PM so we can proceed promptly from here.</span></span><br />\n<br />\n<span style="font-size:12px\;"><span style="font-family:arial\;">Reservations appreciated.</span></span><br />\n<br />\n<strong style="color: rgb(255\, 0\, 0)\; font-family: arial\; font-size: 12px\; line-height: 19.2px\; background-color: rgb(255\, 255\, 255)\;">Please recognize the fact that our sponsors are incurring an expense to host&nbsp\;this event. Please be mindful of this when you register and your ability to fulfill your reservation.</strong><br />\n<br />\n<span style="font-size:12px\;"><span style="font-family:arial\;"><span style="color:#FF0000\;">Members Only</span></span></span></p>\n
LOCATION:TriCounty Area Chamber of Commerce 152 E. High St.\, Suite 360 Pottstown\, PA 19464
UID:e.2183.845807
SEQUENCE:3
DTSTAMP:20260425T111247Z
URL:https://business.tricountyareachamber.com/events/details/progressive-restaurant-networking-tour-07-26-2016-845807
END:VEVENT

END:VCALENDAR
