BEGIN:VCALENDAR
VERSION:2.0
PRODID:-//ChamberMaster//Event Calendar 2.0//EN
METHOD:PUBLISH
X-PUBLISHED-TTL:P3D
REFRESH-INTERVAL:P3D
CALSCALE:GREGORIAN
BEGIN:VEVENT
DTSTART:20170805T123000Z
DTEND:20170805T153000Z
X-MICROSOFT-CDO-ALLDAYEVENT:FALSE
SUMMARY:Promoting the Future of St. Peter's Village
DESCRIPTION:Award-winning Writer\, Jay Walljasper  \n\nwill point us toward discovering the value of creating community and making a difference in our community and the world. Author of The Great Neighborhood Book and All That We Share: A Field Guide to the Commons\, senior fellow at Project for Public Space\, and contributing editor at National Geographic Traveler. Be inspired by how community assets can translate to the creation of a quality place.\n\n\n\nWhy You Should Attend:    \n\nSt Peters Village has an exciting history that is seasoned for a new vision and development. Join Jay Walljasper and other professionals to learn about the potential for redevelopment at St Peters Village.\n\n\n\nWho Should Attend:    \n\nPartners\, potential developers\, realtors\, business owners\, non profits & artisans\n\n\n\n    Agenda: \n\nMeet and greet with refreshments 8:30 am to 9:00 am\n\nIntroduction - What We Know 9:00am \n\nWelcome\, Carol De Wolf\, Natural Lands & Charles Jacobs\, Warwick Township\n\nDevelopment Opportunities\, Carter van Dyke\, CVDA\n\nConservation Easement\, Andy Pitz\, French & Pickering Creeks Conservation Trust\n\nEconomic Market Trends\, Todd Poole\, 4ward Planning\, Inc.\n\n\n\nSpeaker - Jay Walljasper 9:45 - 11:30am \n\nThe Surprising Power of Place and Community \n\nRSVP by clicking here\n\nDownload Speaker Event Flyer\n\n\n\nJoin Us for the Afternoon Event!\n\nDownload Afternoon Event Flyer\n\nWe look forward to seeing you Saturday\, August 5 at St Peters Village!\n\nCall with questions: 610.353.5587 ext 268
X-ALT-DESC;FMTTYPE=text/html:<p><strong><span style="font-size:18.0pt\;font-family:">Award-winning Writer\, Jay Walljasper&nbsp\;</span></strong><strong><span style="font-family:"> </span></strong><br />\n<span style="font-size:13.5pt">will point us toward discovering the value of creating community and making a difference in our community and the world. Author of <em>The Great Neighborhood Book</em> and <em>All That We Share: A Field Guide to the Commons</em>\, senior fellow at Project for Public Space\, and contributing editor at National Geographic Traveler. Be inspired by how community assets can translate to the creation of a quality place.</span><br />\n<br />\n<span style="font-size:13.5pt\;font-family:"><b><span style="color:#679146">Why You Should Attend:</span></b> <span style="color:#679146">&nbsp\;&nbsp\;&nbsp\;</span></span><br />\n<span style="font-size:13.5pt">St Peters Village has an exciting history that is seasoned for a new vision and development. Join Jay Walljasper and other professionals to learn about the potential for redevelopment at St Peters Village.</span><br />\n<br />\n<span style="font-size:13.5pt\;font-family:"><b><span style="color:#679146">Who Should Attend:</span></b> <span style="color:#679146">&nbsp\;&nbsp\;&nbsp\;</span></span><br />\n<span style="font-size:13.5pt">Partners\, potential developers\, realtors\, business owners\, non profits &amp\; artisans</span></p>\n\n<p align="center" style="text-align:center"><br />\n<span style="font-size:13.5pt\;font-family:">&nbsp\;&nbsp\;&nbsp\;</span><span style="font-size:13.5pt"> </span><b><span style="font-size:13.5pt\;font-family:\n">Agenda:</span></b><span style="font-size:\n13.5pt"> </span><br />\n<em><span style="font-size:13.5pt">Meet and greet with refreshments 8:30 am to 9:00 am</span></em></p>\n\n<p><b><span style="font-size:13.5pt\;font-family:">Introduction - What We Know 9:00am</span></b><span style="font-size:13.5pt">&nbsp\;</span><br />\n<strong><span style="font-size:13.5pt">Welcome\, </span></strong><span style="font-size:13.5pt">Carol De Wolf\, Natural Lands &amp\; Charles Jacobs\, Warwick Township</span><br />\n<strong><span style="font-size:13.5pt">Development Opportunities</span></strong><span style="font-size:13.5pt">\, Carter van Dyke\, CVDA</span><br />\n<strong><span style="font-size:13.5pt">Conservation Easement</span></strong><span style="font-size:13.5pt">\,<strong> </strong>Andy Pitz\, French &amp\; Pickering Creeks Conservation Trust</span><br />\n<strong><span style="font-size:13.5pt">Economic Market Trends</span></strong><span style="font-size:13.5pt">\, Todd Poole\, 4ward Planning\, Inc.</span><br />\n<br />\n<b><span style="font-size:13.5pt\;font-family:">Speaker - Jay Walljasper 9:45 - 11:30am</span></b><span style="font-size:13.5pt">&nbsp\;</span></p>\n\n<p align="center" style="text-align:center"><strong><i><span style="font-size:\n13.5pt">The Surprising Power of Place and Community</span></i></strong><span style="font-size:13.5pt">&nbsp\;</span><br />\n<strong><span style="color:#679146\;"><span style="font-family:arial\,sans-serif\;"><span style="font-size:13.5pt\;">RSVP by&nbsp\;</span></span></span></strong><strong><span style="font-family:arial\,sans-serif\;"><span style="font-size:13.5pt\;"><a href="mailto:cdewolf@natlands.org?subject=SHCL%20November%20Meeting&amp\;body=Yes%2C%20I%20plan%20to%20attend." target="_blank"><em><span style="color:firebrick\;">clicking here</span></em></a></span></span></strong><br />\n<strong><span style="font-family:arial\,sans-serif\;"><span style="font-size:13.5pt\;"><strong><a href="http://Schuylkillhighlands.us6.list-manage1.com/track/click?u=a24b26468367f4fa7c59da3c2&amp\;id=8cffd38bfc&amp\;e=6e05d6dfaf" target="_blank"><em><span style="color:firebrick\;">Download Speaker Event Flyer</span></em></a></strong></span></span></strong><br />\n<br />\n<strong><span style="color:#679146\;"><span style="font-family:arial\,sans-serif\;"><span style="font-size:13.5pt\;">Join Us for the Afternoon Event!</span></span></span></strong><br />\n<strong><span style="font-family:arial\,sans-serif\;"><span style="font-size:13.5pt\;"><a href="http://Schuylkillhighlands.us6.list-manage.com/track/click?u=a24b26468367f4fa7c59da3c2&amp\;id=70bc506c6b&amp\;e=6e05d6dfaf" target="_blank"><em><span style="color:firebrick\;">Download&nbsp\;Afternoon Event Flyer</span></em></a></span></span></strong><br />\n<strong><em><span style="color:#679146\;"><span style="font-family:arial\,sans-serif\;"><span style="font-size:13.5pt\;">We look forward to seeing you Saturday\, August 5 at St Peters Village!</span></span></span></em></strong><br />\n<strong><em><span style="color:#679146\;"><span style="font-family:arial\,sans-serif\;"><span style="font-size:13.5pt\;"><strong>Call with questions:&nbsp\;610.353.5587 ext 268</strong></span></span></span></em></strong><br />\n<br />\n&nbsp\;</p>\n
LOCATION:Inn at St. Peters Village - on the deck 3471 St Peters Road St Peters\, PA 19470
UID:e.2183.848719
SEQUENCE:3
DTSTAMP:20260421T025427Z
URL:https://business.tricountyareachamber.com/events/details/promoting-the-future-of-st-peter-s-village-848719
END:VEVENT

END:VCALENDAR
