BEGIN:VCALENDAR
VERSION:2.0
PRODID:-//ChamberMaster//Event Calendar 2.0//EN
METHOD:PUBLISH
X-PUBLISHED-TTL:P3D
REFRESH-INTERVAL:P3D
CALSCALE:GREGORIAN
BEGIN:VEVENT
DTSTART:20180512T000000Z
DTEND:20180512T023000Z
X-MICROSOFT-CDO-ALLDAYEVENT:FALSE
SUMMARY:"Proof"
DESCRIPTION:This Pulitzer Prize winning play by David Auburn is the story of an enigmatic young woman\, Catherine\, her manipulative sister\, their brilliant father\, and an unexpected suitor. They are all pieces of the puzzle in the search for the truth behind a mysterious mathematical proof. In Proof\, the young but guarded Catherine grieves over the loss of her father\, a famous mathematician who had become a legend at the local university for solving complicated proofs\, and for suffering from dementia. Just as Catherine begins to give in to her fear that she\, too\, might suffer from her father's condition\, Catherine's older sister Claire returns home to help "settle" family affairs and Hal\, one of the father's old students\, starts to poke around the house. What Hal discovers in an old speckle-bound notebook brings to light a buried family secret. It tests the sisters' kinship as well as the romantic feelings growing between Catherine and Hal. This poignant drama about love and reconciliation unfolds on the back porch of a house settled in a suburban university town\, that is\, like David Auburn's writing\, both simple and elegant.\n\n\n\nFor Group Discount Ticket Sales Contact Beth McDonnell\n\n\n\nRuns approximately 2 hours 15 minutes with one intermission.
X-ALT-DESC;FMTTYPE=text/html:<p style="font-family: tahoma\, arial\, sans-serif\; font-size: 12px\; background-color: rgb(255\, 255\, 255)\; margin: 0in 0in 8pt\;"><span style="color: rgb(51\, 51\, 51)\; font-family: Lato\, sans-serif\; font-size: 16px\; background-color: rgb(255\, 255\, 255)\;">This Pulitzer Prize winning play by David Auburn is the story of an enigmatic young woman\, Catherine\, her manipulative sister\, their brilliant father\, and an unexpected suitor. They are all pieces of the puzzle in the search for the truth behind a mysterious mathematical proof. In Proof\, the young but guarded Catherine grieves over the loss of her father\, a famous mathematician who had become a legend at the local university for solving complicated proofs\, and for suffering from dementia. Just as Catherine begins to give in to her fear that she\, too\, might suffer from her father&rsquo\;s condition\, Catherine&rsquo\;s older sister Claire returns home to help &ldquo\;settle&rdquo\; family affairs and Hal\, one of the father&rsquo\;s old students\, starts to poke around the house. What Hal discovers in an old speckle-bound notebook brings to light a buried family secret. It tests the sisters&rsquo\; kinship as well as the romantic feelings growing between Catherine and Hal. This poignant drama about love and reconciliation unfolds on the back porch of a house settled in a suburban university town\, that is\, like David Auburn&rsquo\;s writing\, both simple and elegant.</span></p>\n\n<p style="font-family: tahoma\, arial\, sans-serif\; font-size: 12px\; background-color: rgb(255\, 255\, 255)\;"><br />\n<span style="box-sizing: border-box\; font-weight: 700\; margin-bottom: 0px\; color: rgb(51\, 51\, 51)\; font-family: Lato\, sans-serif\; font-size: 16px\; background-color: rgb(255\, 255\, 255)\;">For Group Discount Ticket Sales Contact&nbsp\;<a href="http://beth.mcdonnell@steelriver.org" rel="noopener" style="box-sizing: border-box\; background: transparent\; transition: all 0.1s ease-in-out\; color: rgb(36\, 131\, 208)\; text-decoration-line: none\; margin-bottom: 0px\;" target="_blank">Beth McDonnell</a></span><br />\n<br />\n<span style="background-image: initial\; background-position: initial\; background-size: initial\; background-repeat: initial\; background-attachment: initial\; background-origin: initial\; background-clip: initial\; font-family: Arial\, sans-serif\; font-size: 10pt\;">Runs approximately 2 hours 15 minutes with one&nbsp\;intermission.</span></p>\n
LOCATION:Steel River Playhouse 245 E. High Street Pottstown\, PA 19464
UID:e.2183.850327
SEQUENCE:3
DTSTAMP:20260424T012128Z
URL:https://business.tricountyareachamber.com/events/details/proof-850327
END:VEVENT

END:VCALENDAR
