BEGIN:VCALENDAR
VERSION:2.0
PRODID:-//ChamberMaster//Event Calendar 2.0//EN
METHOD:PUBLISH
X-PUBLISHED-TTL:P3D
REFRESH-INTERVAL:P3D
CALSCALE:GREGORIAN
BEGIN:VEVENT
DTSTART:20180201T000000Z
DTEND:20180201T010000Z
X-MICROSOFT-CDO-ALLDAYEVENT:FALSE
SUMMARY:Protecting Ourselves in a Toxic World
DESCRIPTION:Toxins are everywhere in our modern world. They're in the air we breathe\, the water we drink\, the food we eat. They're in everyday skin care products\, home cleaning products and many places we'd never suspect. We usually can't see or feel them when initially exposed\, but toxins are absorbed into our bodies and weaken us\, contributing to symptoms and illness. Come to this informative workshop and learn how you can heal and significantly reduce your exposure to toxins.
X-ALT-DESC;FMTTYPE=text/html:<span style="color: rgb(22\, 19\, 63)\; font-family: futura-pt\; font-size: 16px\; letter-spacing: 0.32px\;">Toxins are everywhere in our modern world. They&#39\;re in the air we breathe\, the water we drink\, the food we eat. They&#39\;re in everyday skin care products\, home cleaning products and many places we&#39\;d never suspect. We usually can&#39\;t see or feel them when initially exposed\, but toxins are absorbed into our bodies and weaken us\, contributing to symptoms and illness. Come to this informative workshop and learn how you can heal and significantly reduce your exposure to toxins.</span>
LOCATION:Center for Nutritional Healing 567 Church Street\, Suite C Royersford\, PA 19468
UID:e.2183.849129
SEQUENCE:3
DTSTAMP:20260421T094420Z
URL:https://business.tricountyareachamber.com/events/details/protecting-ourselves-in-a-toxic-world-849129
END:VEVENT

END:VCALENDAR
