BEGIN:VCALENDAR
VERSION:2.0
PRODID:-//ChamberMaster//Event Calendar 2.0//EN
METHOD:PUBLISH
X-PUBLISHED-TTL:P3D
REFRESH-INTERVAL:P3D
CALSCALE:GREGORIAN
BEGIN:VEVENT
DTSTART:20171031T130000Z
DTEND:20171031T190000Z
X-MICROSOFT-CDO-ALLDAYEVENT:FALSE
SUMMARY:Pumpkin Decorating Contest
DESCRIPTION:Pumpkin Decorating Contest\n\nWin a $50 A.C. Moore Gift Card!\n\n\nStop in between 9 AM - 3 PM October 30 through Novemeber 3 to decorate a pumpkin - pumpkins and decorations are supplied for free.\n\n\n\nOpen to kids ages 16 and younger. No purchase is necessary - and you leave with your pumpkin that day!\n\n\n\nPictures of all the pumpkins will be posted on the bank Facebook page where everyone is encouraged to vote for their favorite one. Voting ends on November 13 with the winner announced on November 14.
X-ALT-DESC;FMTTYPE=text/html:<div style="text-align: center\;"><span style="font-size:20px\;"><strong>Pumpkin Decorating Contest<br />\nWin a $50 A.C. Moore Gift Card!</strong></span></div>\n<br />\nStop in between 9 AM - 3 PM October 30 through Novemeber 3 to decorate a pumpkin - pumpkins and decorations are supplied for free.<br />\n<br />\nOpen to kids ages 16 and younger. No purchase is necessary - and you leave with your pumpkin that day!<br />\n<br />\nPictures of all the pumpkins will be posted on the bank Facebook page where everyone is encouraged to vote for their favorite one. Voting ends on November 13 with the winner announced on November 14.
LOCATION:The Victory Bank 548 N. Lewis Road Limerick\, PA 19468
UID:e.2183.848832
SEQUENCE:3
DTSTAMP:20260421T042533Z
URL:https://business.tricountyareachamber.com/events/details/pumpkin-decorating-contest-848832
END:VEVENT

END:VCALENDAR
