BEGIN:VCALENDAR
VERSION:2.0
PRODID:-//ChamberMaster//Event Calendar 2.0//EN
METHOD:PUBLISH
X-PUBLISHED-TTL:P3D
REFRESH-INTERVAL:P3D
CALSCALE:GREGORIAN
BEGIN:VEVENT
DTSTART:20171028T210000Z
DTEND:20171029T000000Z
X-MICROSOFT-CDO-ALLDAYEVENT:FALSE
SUMMARY:Pumpkinfest
DESCRIPTION:Building a Better Boyertown and the Merchant's Committee presents Pumpkinfest.  On October 27th during the Fourth Friday Art Walk\, there will be carving stations set up at participating businesses.  You can either carve or paint a pumpkin.  Then on Saturday\, October 28th there will be a pumpkin lighting ceremony on Philadelphia Avenue at 7PM.  The event is free to the public.
X-ALT-DESC;FMTTYPE=text/html:<span style="color: rgb(102\, 102\, 102)\; font-family: &quot\;Old Standard TT&quot\;\, Georgia\; font-size: 16px\;">Building a Better Boyertown and the Merchant&rsquo\;s Committee presents Pumpkinfest.&nbsp\; On October 27th during the Fourth Friday Art Walk\, there will be carving stations set up at participating businesses.&nbsp\; You can either carve or paint a pumpkin.&nbsp\; Then on Saturday\, October 28th there will be a pumpkin lighting ceremony on Philadelphia Avenue at 7PM.&nbsp\; The event is free to the public.</span>
LOCATION:Boyertown\, PA 19512
UID:e.2183.848840
SEQUENCE:3
DTSTAMP:20260421T042525Z
URL:https://business.tricountyareachamber.com/events/details/pumpkinfest-848840
END:VEVENT

END:VCALENDAR
