BEGIN:VCALENDAR
VERSION:2.0
PRODID:-//ChamberMaster//Event Calendar 2.0//EN
METHOD:PUBLISH
X-PUBLISHED-TTL:P3D
REFRESH-INTERVAL:P3D
CALSCALE:GREGORIAN
BEGIN:VEVENT
DTSTART:20220322T140000Z
DTEND:20220322T150000Z
X-MICROSOFT-CDO-ALLDAYEVENT:FALSE
SUMMARY:REACH Book Club
DESCRIPTION:Join TCACC's REACH group for a discussion about our chosen self-help leadership book.  Anyone can join. Membership not required. The first book chosen\, by our REACH Coffee Chat group\, is \, "The Image of Leadership" by Sylvie di Giusto. \n\nAt this book club session\, we will discuss chapters 5& 6 of the book\, and how we relate to its message.
X-ALT-DESC;FMTTYPE=text/html:<span style="font-size:14px\;">Join TCACC&#39\;s REACH group for a discussion about our chosen self-help leadership book.&nbsp\; Anyone can join. Membership not required. The first book chosen\, by our REACH Coffee Chat group\, is \, &quot\;The Image of Leadership&quot\; by Sylvie di Giusto.&nbsp\;<br />\nAt this book club session\, we will discuss chapters 5&amp\; 6 of the book\, and how we relate to its message.&nbsp\;</span>
LOCATION:VIRTUAL | A Zoom link will be sent to all REACH Book Club participants prior to the event.
UID:e.2183.856915
SEQUENCE:3
DTSTAMP:20260420T195027Z
URL:https://business.tricountyareachamber.com/events/details/reach-book-club-03-22-2022-856915
END:VEVENT

END:VCALENDAR
