BEGIN:VCALENDAR
VERSION:2.0
PRODID:-//ChamberMaster//Event Calendar 2.0//EN
METHOD:PUBLISH
X-PUBLISHED-TTL:P3D
REFRESH-INTERVAL:P3D
CALSCALE:GREGORIAN
BEGIN:VEVENT
DTSTART:20220524T140000Z
DTEND:20220524T150000Z
X-MICROSOFT-CDO-ALLDAYEVENT:FALSE
SUMMARY:REACH Book Club
DESCRIPTION:Join TCACC's REACH group for a chat over coffee about our chosen self-help leadership book.  Anyone can join to discuss.\n\nThe first book chosen\, by our REACH Coffee Chat group\, is \, "The Image of Leadership" by Sylvie di Giusto.  At this book club session\, we will discuss chapters 9 & 10 of the book\, and how we relate to its message.
X-ALT-DESC;FMTTYPE=text/html:<span style="font-size:14px\;"><span style="font-family:arial\;">Join TCACC&#39\;s REACH group for a chat over coffee about our chosen self-help leadership book.&nbsp\; Anyone can join to discuss.<br />\nThe first book chosen\, by our REACH Coffee Chat group\, is \, &quot\;The Image of Leadership&quot\; by Sylvie di Giusto.&nbsp\; At this book club session\, we will discuss chapters 9 &amp\; 10 of the book\, and how we relate to its message.&nbsp\;</span></span>
LOCATION:VIRTUAL | A Zoom link will be sent to all REACH Book Club participants prior to the event.
UID:e.2183.856905
SEQUENCE:3
DTSTAMP:20260420T161138Z
URL:https://business.tricountyareachamber.com/events/details/reach-book-club-05-25-2022-856905
END:VEVENT

END:VCALENDAR
