BEGIN:VCALENDAR
VERSION:2.0
PRODID:-//ChamberMaster//Event Calendar 2.0//EN
METHOD:PUBLISH
X-PUBLISHED-TTL:P3D
REFRESH-INTERVAL:P3D
CALSCALE:GREGORIAN
BEGIN:VEVENT
DTSTART:20221122T150000Z
DTEND:20221122T160000Z
X-MICROSOFT-CDO-ALLDAYEVENT:FALSE
SUMMARY:REACH Book Club
DESCRIPTION:Join TCACC's REACH group for a chat over coffee about our chosen self-help leadership book.  Anyone can join to discuss. This month's meeting we will be discussing "Thanks a Thousand: A Gratitude Journey" by A.J. Jacobs.
X-ALT-DESC;FMTTYPE=text/html:<span style="font-size:14px\;"><span style="font-family:arial\;">Join TCACC&#39\;s REACH group for a chat over coffee about our chosen self-help leadership book.&nbsp\; Anyone can join to discuss.&nbsp\;</span></span><span style="font-family: arial\; font-size: 14px\;">This month&#39\;s meeting we will be discussing &quot\;Thanks a Thousand: A Gratitude Journey&quot\; by A.J. Jacobs.</span><br />\n&nbsp\;
LOCATION:VIRTUAL | A Zoom link will be sent to all REACH Book Club participants prior to the event.
UID:e.2183.856923
SEQUENCE:3
DTSTAMP:20260420T195027Z
URL:https://business.tricountyareachamber.com/events/details/reach-book-club-11-22-2022-856923
END:VEVENT

END:VCALENDAR
