BEGIN:VCALENDAR
VERSION:2.0
PRODID:-//ChamberMaster//Event Calendar 2.0//EN
METHOD:PUBLISH
X-PUBLISHED-TTL:P3D
REFRESH-INTERVAL:P3D
CALSCALE:GREGORIAN
BEGIN:VEVENT
DTSTART:20220125T150000Z
DTEND:20220125T160000Z
X-MICROSOFT-CDO-ALLDAYEVENT:FALSE
SUMMARY:REACH Book Club
DESCRIPTION:Join TCACC's REACH group for a chat over coffee about our chosen leadership book.  Anyone can join to discuss.\n\nThe first book chosen\, by our REACH Coffee Chat group\, is\, "The Image of Leadership" by Sylvie di Giusto. We will discuss the first 2 chapters of the book\, and how we relate to its message\, at this first book club session.
X-ALT-DESC;FMTTYPE=text/html:<h2><span style="font-size:14px\;">Join TCACC&#39\;s REACH group for a chat over coffee about our chosen&nbsp\;leadership book.&nbsp\; Anyone can join to discuss.<br />\nThe first book chosen\, by our REACH Coffee Chat group\, is\, &quot\;The Image of Leadership&quot\; by Sylvie di Giusto. We will discuss the first 2 chapters of the book\, and how we relate to its message\, at this first book club session.</span></h2>\n
LOCATION:VIRTUAL | A Zoom link will be sent to all REACH Book Club participants prior to the event.
UID:e.2183.856901
SEQUENCE:3
DTSTAMP:20260423T042307Z
URL:https://business.tricountyareachamber.com/events/details/reach-book-club-856901
END:VEVENT

END:VCALENDAR
