BEGIN:VCALENDAR
VERSION:2.0
PRODID:-//ChamberMaster//Event Calendar 2.0//EN
METHOD:PUBLISH
X-PUBLISHED-TTL:P3D
REFRESH-INTERVAL:P3D
CALSCALE:GREGORIAN
BEGIN:VEVENT
DTSTART:20220222T150000Z
DTEND:20220222T160000Z
X-MICROSOFT-CDO-ALLDAYEVENT:FALSE
SUMMARY:REACH Book Club
DESCRIPTION:Join TCACC's REACH group for a chat over coffee about our chosen self-help leadership book.  Anyone can join to discuss.\n\nThe first book chosen\, by our REACH Coffee Chat group\, is \, "The Image of Leadership" by Sylvie di Giusto. We will discuss the chapters 2 & 3 of the book\, at this meeting\, and how we relate to its message.
X-ALT-DESC;FMTTYPE=text/html:Join TCACC&#39\;s REACH group for a chat over coffee about our chosen self-help leadership book.&nbsp\; Anyone can join to discuss.<br />\nThe first book chosen\, by our REACH Coffee Chat group\, is \, &quot\;The Image of Leadership&quot\; by Sylvie di Giusto. We will discuss the chapters 2 &amp\; 3 of the book\, at this meeting\, and how we relate to its message.&nbsp\;
LOCATION:VIRTUAL | A Zoom link will be sent to all REACH Book Club participants prior to the event.
UID:e.2183.856914
SEQUENCE:3
DTSTAMP:20260423T023848Z
URL:https://business.tricountyareachamber.com/events/details/reach-book-club-856914
END:VEVENT

END:VCALENDAR
