BEGIN:VCALENDAR
VERSION:2.0
PRODID:-//ChamberMaster//Event Calendar 2.0//EN
METHOD:PUBLISH
X-PUBLISHED-TTL:P3D
REFRESH-INTERVAL:P3D
CALSCALE:GREGORIAN
BEGIN:VEVENT
DTSTART:20220510T140000Z
DTEND:20220510T150000Z
X-MICROSOFT-CDO-ALLDAYEVENT:FALSE
SUMMARY:REACH Coffee Chat
DESCRIPTION:Join REACH for a morning of coffee and connections! We network\, check in with each other\, and share inspiration. Grow your network and connect with other professional women and non-binary members in the tri-county region.
X-ALT-DESC;FMTTYPE=text/html:<span style="font-size:14px\;"><span style="font-family:tahoma\;">Join REACH for a morning of coffee and connections! We network\, check in with each other\, and share inspiration. Grow your network and connect with other professional women and&nbsp\;non-binary members in the tri-county region.</span></span>
LOCATION:VIRTUAL | A zoom link will be sent to all REACH Coffee Chat members prior to the event.
UID:e.2183.856889
SEQUENCE:3
DTSTAMP:20260420T161202Z
URL:https://business.tricountyareachamber.com/events/details/reach-coffee-chat-05-10-2022-856889
END:VEVENT

END:VCALENDAR
