BEGIN:VCALENDAR
VERSION:2.0
PRODID:-//ChamberMaster//Event Calendar 2.0//EN
METHOD:PUBLISH
X-PUBLISHED-TTL:P3D
REFRESH-INTERVAL:P3D
CALSCALE:GREGORIAN
BEGIN:VEVENT
DTSTART:20210511T140000Z
DTEND:20210511T150000Z
X-MICROSOFT-CDO-ALLDAYEVENT:FALSE
SUMMARY:REACH Coffee Chat feat. Dr. Myra Forrest: Rise from the Ashes
DESCRIPTION:Dr. Myra Forrest will be joining the REACH Coffee Chat group to share her personal story of facing adversity and how she rose from the ashes.
X-ALT-DESC;FMTTYPE=text/html:<span style="font-size:14px\;">Dr. Myra Forrest will be joining the REACH Coffee Chat group to share her personal story of facing adversity and how she rose from the ashes.&nbsp\;</span>
LOCATION:VIRTUAL | A Zoom link will be sent to all registered attendees prior to the event.
UID:e.2183.856562
SEQUENCE:3
DTSTAMP:20260423T163318Z
URL:https://business.tricountyareachamber.com/events/details/reach-coffee-chat-feat-dr-myra-forrest-rise-from-the-ashes-856562
END:VEVENT

END:VCALENDAR
