BEGIN:VCALENDAR
VERSION:2.0
PRODID:-//ChamberMaster//Event Calendar 2.0//EN
METHOD:PUBLISH
X-PUBLISHED-TTL:P3D
REFRESH-INTERVAL:P3D
CALSCALE:GREGORIAN
BEGIN:VEVENT
DTSTART:20210316T140000Z
DTEND:20210316T153000Z
X-MICROSOFT-CDO-ALLDAYEVENT:FALSE
SUMMARY:REACH Coffee Chat: Leadership Game with Jenna Armato
DESCRIPTION:Jenna Armato\, Growth & Success Coach\, will be facilitating the Leadership Game with the REACH group. The game creates dialogue around challenges and opportunities for growth and brings collective value to each participant. Participating in the Leadership Game with the REACH group will:\n\n	Help you connect with the women of REACH on a deeper level\n	Develop a stronger sense of community within the program\n	Provide you with actionable steps and best practices that you can implement as you grow in your self-leadership\, both personally and professionally\n\n The game facilitates connection and collaboration. Jenna has played it with groups of people who have worked together for 20 years and she has also played it with people who have never met one another and all work in different companies\, and everywhere in between\, and she shares that the experience adds value to participants every time.\n\n\n\nAbout Jenna\n\nJenna joined the John Maxwell Team in 2017 with the mission to facilitate growth in the lives of others.\n\nShe coaches\, individuals\, businesses and non-profit organizations in Leadership Development\, Growth & Resilience\, and Effective Communications.\n\nJenna works with clients virtually and in person to equip them with tools\, training and strategies to uncover and identify opportunities for growth and create new results in their lives and their organizations.\n\nAs a DISC Certified Trainer\, Jenna helps people leverage awareness of behavioral styles of themselves and others to strengthen connection\, collaboration\, and communication in every area of their lives at home\, at work and in the community.\n\nPrior to becoming certified with the John Maxwell Team\, Jenna spent 20 years working in the advertising and marketing industries developing relationship\, content\, and engagement strategies both online and offline.\n\nShe combines her passion and expertise in growth facilitation with her extensive marketing background and provides Thinking Partner sessions that spark creativity and outside of the box thinking\, to help her clients reach new levels of achievement within themselves and within their businesses.\n\nJenna is a John Maxwell certified Coach\, Speaker and Trainer\, a DISC certified Trainer and a Licensed teacher through the Empowered Living Community.\n\nJenna serves on the Board for TriCounty Community Network (TCN)\, the Philadelphia American Marketing Association\, as well as Trellis for Tomorrow.  She is an Ambassador for TriCounty Area Chamber of Commerce\, she Leads the Empowered Living Community Connection Pillar\, and is a charter member of the WomenWillpower organization. Jenna serves on the President's Advisory Council for the John Maxwell Team.
X-ALT-DESC;FMTTYPE=text/html:<span style="font-size:14px\;">Jenna Armato\, Growth &amp\; Success Coach\, will be facilitating the <strong>Leadership Game</strong> with the REACH group.&nbsp\;The game creates dialogue around challenges and opportunities for growth and brings collective value to each participant. Participating in the Leadership Game with the REACH group will:</span>\n<ul>\n	<li><span style="font-size:14px\;">Help you connect with the women of REACH on a deeper level</span></li>\n	<li><span style="font-size:14px\;">Develop a stronger sense of community within the program</span></li>\n	<li><span style="font-size:14px\;">Provide you with actionable steps and best practices that you can implement as you grow in your self-leadership\, both personally and professionally</span></li>\n</ul>\n<span style="font-size:14px\;"> The game facilitates connection and collaboration. Jenna has played it with groups of people who have worked together for 20 years and she has also played it with people who have never met one another and all work in different companies\, and everywhere in between\, and she shares that the experience adds value to participants every time.<br />\n<br />\n<u style="outline: 0px\; box-sizing: border-box\; font-family: Arial\, Helvetica\, sans-serif\; font-size: 12px\; background-color: rgb(255\, 255\, 255)\;"><span style="outline: 0px\; box-sizing: border-box\; font-weight: bolder\;">About Jenna</span></u><br style="box-sizing: border-box\; font-family: Arial\, Helvetica\, sans-serif\; font-size: 12px\; background-color: rgb(255\, 255\, 255)\;" />\n<span style="font-family: Arial\, Helvetica\, sans-serif\; background-color: rgb(255\, 255\, 255)\;">Jenna joined the John Maxwell Team in 2017 with the mission to facilitate growth in the lives of others.</span><br style="box-sizing: border-box\; font-family: Arial\, Helvetica\, sans-serif\; font-size: 12px\; background-color: rgb(255\, 255\, 255)\;" />\n<span style="font-family: Arial\, Helvetica\, sans-serif\; background-color: rgb(255\, 255\, 255)\;">She coaches\, individuals\, businesses and non-profit organizations in Leadership Development\, Growth &amp\; Resilience\, and Effective Communications.</span><br style="box-sizing: border-box\; font-family: Arial\, Helvetica\, sans-serif\; font-size: 12px\; background-color: rgb(255\, 255\, 255)\;" />\n<span style="font-family: Arial\, Helvetica\, sans-serif\; background-color: rgb(255\, 255\, 255)\;">Jenna works with clients virtually and in person to equip them with tools\, training and strategies to uncover and identify opportunities for growth and create new results in their lives and their organizations.</span><br style="box-sizing: border-box\; font-family: Arial\, Helvetica\, sans-serif\; font-size: 12px\; background-color: rgb(255\, 255\, 255)\;" />\n<span style="font-family: Arial\, Helvetica\, sans-serif\; background-color: rgb(255\, 255\, 255)\;">As a DISC Certified Trainer\, Jenna helps people leverage awareness of behavioral styles of themselves and others to strengthen connection\, collaboration\, and communication in every area of their lives at home\, at work and in the community.</span><br style="box-sizing: border-box\; font-family: Arial\, Helvetica\, sans-serif\; font-size: 12px\; background-color: rgb(255\, 255\, 255)\;" />\n<span style="font-family: Arial\, Helvetica\, sans-serif\; background-color: rgb(255\, 255\, 255)\;">Prior to becoming certified with the John Maxwell Team\, Jenna spent 20 years working in the advertising and marketing industries developing relationship\, content\, and engagement strategies both online and offline.</span><br style="box-sizing: border-box\; font-family: Arial\, Helvetica\, sans-serif\; font-size: 12px\; background-color: rgb(255\, 255\, 255)\;" />\n<span style="font-family: Arial\, Helvetica\, sans-serif\; background-color: rgb(255\, 255\, 255)\;">She combines her passion and expertise in growth facilitation with her extensive marketing background and provides Thinking Partner sessions that spark creativity and outside of the box thinking\, to help her clients reach new levels of achievement within themselves and within their businesses.</span><br style="box-sizing: border-box\; font-family: Arial\, Helvetica\, sans-serif\; font-size: 12px\; background-color: rgb(255\, 255\, 255)\;" />\n<span style="font-family: Arial\, Helvetica\, sans-serif\; background-color: rgb(255\, 255\, 255)\;">Jenna is a John Maxwell certified Coach\, Speaker and Trainer\, a DISC certified Trainer and a Licensed teacher through the Empowered Living Community.</span><br style="box-sizing: border-box\; font-family: Arial\, Helvetica\, sans-serif\; font-size: 12px\; background-color: rgb(255\, 255\, 255)\;" />\n<span style="font-family: Arial\, Helvetica\, sans-serif\; background-color: rgb(255\, 255\, 255)\;">Jenna serves on the Board for TriCounty Community Network (TCN)\, the Philadelphia American Marketing Association\, as well as Trellis for Tomorrow.&nbsp\; She is an Ambassador for TriCounty Area Chamber of Commerce\, she Leads the Empowered Living Community Connection Pillar\, and is a charter member of the WomenWillpower organization. Jenna serves on the President&rsquo\;s Advisory Council for the John Maxwell Team.</span></span><br />\n&nbsp\;
LOCATION:VIRTUAL | A Zoom link will be sent to all registered attendees prior to the event.
UID:e.2183.856493
SEQUENCE:3
DTSTAMP:20260423T180854Z
URL:https://business.tricountyareachamber.com/events/details/reach-coffee-chat-leadership-game-with-jenna-armato-856493
END:VEVENT

END:VCALENDAR
