BEGIN:VCALENDAR
VERSION:2.0
PRODID:-//ChamberMaster//Event Calendar 2.0//EN
METHOD:PUBLISH
X-PUBLISHED-TTL:P3D
REFRESH-INTERVAL:P3D
CALSCALE:GREGORIAN
BEGIN:VEVENT
DTSTART:20230119T163000Z
DTEND:20230119T183000Z
X-MICROSOFT-CDO-ALLDAYEVENT:FALSE
SUMMARY:REACH Luncheon: Time Management
DESCRIPTION:Join us for lunch and to learn how to stop feeling overworked\, overwhelmed\, and overcommitted and wanting to run away from it all.  You know\, the work you thought you wanted to do with your life but now are questioning it all.  Start feeling like an accomplished champion doing the work you love!  \n\n\n\nAudrey Faust\, Business Advisor\, CFO and certified NeuroCoach\, will help you discover how to:\n\n\n	Gain control over your day- every day.\n	Learn how to say "NO" without the threat of losing friends or influence.\n	Become better at what you do while working less hours.\n	Protect your time\, prioritize your family\, and still crush the day.
X-ALT-DESC;FMTTYPE=text/html:<div><span style="font-size:14px\;"><span style="color: rgb(0\, 0\, 0)\; font-family: Arial\, Helvetica\, sans-serif\;">Join us for lunch and&nbsp\;to learn how to stop feeling overworked\, overwhelmed\, and overcommitted and wanting to run away from it all.&nbsp\; You know\, the work you thought you wanted to do with your life but now are questioning it all.&nbsp\; Start feeling like an accomplished champion doing the work you love!&nbsp\; </span><br />\n<br />\n<strong style="font-family: tahoma\;">Audrey Faust</strong><span style="font-family: tahoma\;">\, Business Advisor\, CFO and certified NeuroCoach\, will help you discover how to:</span></span></div>\n\n<ul>\n	<li><span style="font-size:14px\;"><span style="font-family: tahoma\;">Gain control over your day- every day.</span></span></li>\n	<li><span style="font-size:14px\;"><span style="font-family: tahoma\;">Learn how to say &quot\;NO&quot\; without the threat of losing friends or&nbsp\;influence.</span></span></li>\n	<li><span style="font-size:14px\;"><span style="font-family: tahoma\;">Become better at what you do while working less hours.</span></span></li>\n	<li><span style="font-size:14px\;"><span style="font-family: tahoma\;">Protect your time\, prioritize your family\, and still crush the day.</span></span></li>\n</ul>\n
LOCATION:Copperfield Inn at Lakeside
UID:e.2183.857868
SEQUENCE:3
DTSTAMP:20260422T101052Z
URL:https://business.tricountyareachamber.com/events/details/reach-luncheon-time-management-857868
END:VEVENT

END:VCALENDAR
