BEGIN:VCALENDAR
VERSION:2.0
PRODID:-//ChamberMaster//Event Calendar 2.0//EN
METHOD:PUBLISH
X-PUBLISHED-TTL:P3D
REFRESH-INTERVAL:P3D
CALSCALE:GREGORIAN
BEGIN:VEVENT
DTSTART:20210329T151500Z
DTEND:20210329T164500Z
X-MICROSOFT-CDO-ALLDAYEVENT:FALSE
SUMMARY:REACH Luncheon with special guest Congresswoman Madeleine Dean: How to be a Change Maker
DESCRIPTION:Join us as Congresswoman Madeleine Dean shares her professional and personal journey with us.  As an attorney who went on to open her own firm\, and as a former professor she has made an impact in individuals' lives.  As a state representative she served on the Governor's Commission for Women and in 2020 she was elected Chair of the Bipartisan Women's Caucus.  Her job is to be a "change maker."\n\n \n\nJoin us in welcoming our special guest Congresswoman Madeleine Dean as she guides us on how to start being a change agent and empowers us to define our own path to impacting change.\n\n\n\nBiography of Rep. Dean\n\nMadeleine Dean was born and raised in Glenside\, Pennsylvania. She graduated from La Salle University\, and earned her law degree at Widener University. Madeleine then returned home and practiced law with the Philadelphia Trial Lawyers\, and went on to open a three-woman law firm in Glenside. While raising three sons\, Madeleine changed career paths to become a professor of writing at La Salle University. \n\nIn 2012\, Madeleine successfully ran for State Representative in the 153rd District. In the legislature\, Madeleine was appointed to Governor Wolf's Commission for Women\, co-founded the gun safety group PA-SAFE\, and was an outspoken leader on progressive issues. \n\nIn 2018\, Madeleine was elected to represent Pennsylvania's 4th District   Montgomery and Berks Counties   in the 116th Congress.\n\nIn Washington\, Madeleine serves on the powerful Judiciary and Financial Services Committees\, championing progressive priorities like public education\, combating addiction\, equal rights\, access to healthcare\, protecting the environment\, ethics\, criminal justice reform\, gun violence prevention and more. \n\nIn 2020\, Madeleine was elected Chair of the Bipartisan Women's Caucus.
X-ALT-DESC;FMTTYPE=text/html:<span style="font-size:14px\;">Join us as Congresswoman Madeleine Dean shares her professional and personal journey with us.&nbsp\; As an attorney who went on to open her own firm\, and as a former professor she has made an impact in individuals&rsquo\; lives.&nbsp\; As a state representative she served on the Governor&rsquo\;s Commission for Women and in 2020 she was elected Chair of the Bipartisan Women&rsquo\;s Caucus.&nbsp\; Her job is to be a &ldquo\;change maker.&rdquo\;<br />\n&nbsp\;<br />\nJoin us in welcoming our special guest Congresswoman Madeleine Dean as she guides us on how to start being a change agent and empowers us to define our own path to impacting change.<br />\n<br />\n<span style="font-family:arial\;"><em>Biography of Rep. Dean</em><br />\nMadeleine Dean was born and raised in Glenside\, Pennsylvania. She graduated from La Salle University\, and earned her law degree at Widener University. Madeleine then returned home and practiced law with the Philadelphia Trial Lawyers\, and went on to open a three-woman law firm in Glenside. While raising three sons\, Madeleine changed career paths to become a professor of writing at La Salle University.&nbsp\;<br />\nIn 2012\, Madeleine successfully ran for State Representative in the 153rd District. In the legislature\, Madeleine was appointed to Governor Wolf&rsquo\;s Commission for Women\, co-founded the gun safety group PA-SAFE\, and was an outspoken leader on progressive issues.&nbsp\;<br />\nIn 2018\, Madeleine was elected to represent Pennsylvania&rsquo\;s 4th District &mdash\; Montgomery and Berks Counties &mdash\; in the 116th Congress.<br />\nIn Washington\, Madeleine serves on the powerful Judiciary and Financial Services Committees\, championing progressive priorities like public education\, combating addiction\, equal rights\, access to healthcare\, protecting the environment\, ethics\, criminal justice reform\, gun violence prevention and more.&nbsp\;<br />\nIn 2020\, Madeleine was elected Chair of the Bipartisan Women&rsquo\;s Caucus.&nbsp\;</span></span>
LOCATION:VIRTUAL | A Zoom link will be sent to attendees prior to the event.
UID:e.2183.856485
SEQUENCE:3
DTSTAMP:20260423T181314Z
URL:https://business.tricountyareachamber.com/events/details/reach-luncheon-with-special-guest-congresswoman-madeleine-dean-how-to-be-a-change-maker-856485
END:VEVENT

END:VCALENDAR
