BEGIN:VCALENDAR
VERSION:2.0
PRODID:-//ChamberMaster//Event Calendar 2.0//EN
METHOD:PUBLISH
X-PUBLISHED-TTL:P3D
REFRESH-INTERVAL:P3D
CALSCALE:GREGORIAN
BEGIN:VEVENT
DTSTART:20220323T153000Z
DTEND:20220323T170000Z
X-MICROSOFT-CDO-ALLDAYEVENT:FALSE
SUMMARY:REACH Luncheon with special guest Leslie Richards\, General Manager of SEPTA
DESCRIPTION:Join us to honor Leslie S. Richards\, the 11th General Manager & CEO of the Southeastern Pennsylvania Transportation Authority (SEPTA)\, which is the sixth largest transportation agency in the U.S. Ms. Richards oversees a budget of more than $2 billion and 9\,500 employees. She is an advocate for women and diversity in transportation and government and has been recognized for her leadership in the industry and commitment to public service.  We will have a conversation with Ms. Richards regarding  "Your Potential of Influence and Power."\n\n\n\nCongratulations to SEPTA's CEO & General Manager Leslie Richards for her recent recognition by the Philadelphia Business Journal as one of 2021's POWER 100!
X-ALT-DESC;FMTTYPE=text/html:Join us to honor <strong>Leslie S. Richards\, the 11th General Manager &amp\; CEO of the Southeastern Pennsylvania Transportation Authority (SEPTA)</strong>\, which is the sixth largest transportation agency in the U.S. Ms. Richards oversees a budget of more than $2 billion and 9\,500 employees.&nbsp\;She is an advocate for women and diversity in transportation and government and has been recognized for her leadership in the industry and commitment to public service.&nbsp\; We will have a conversation with Ms. Richards regarding&nbsp\; &quot\;Your&nbsp\;Potential of&nbsp\;Influence and Power.&quot\;<br />\n<br />\n<span style="font-size:14px\;"><span style="font-family:arial\;"><span style="color: rgba(0\, 0\, 0\, 0.9)\;">Congratulations to SEPTA&#39\;s CEO &amp\; General Manager&nbsp\;</span><a data-attribute-index="0" data-entity-hovercard-id="urn:li:fs_miniProfile:ACoAAAGT9n4BVR3BQdwMPfBrdt9vzyQLp6RQYPE" data-entity-type="MINI_PROFILE" href="https://www.linkedin.com/in/ACoAAAGT9n4BVR3BQdwMPfBrdt9vzyQLp6RQYPE" style="box-sizing: inherit\; margin: var(--artdeco-reset-base-margin-zero)\; padding: var(--artdeco-reset-base-padding-zero)\; font-size: 14px\; vertical-align: var(--artdeco-reset-base-vertical-align-baseline)\; text-decoration: var(--artdeco-reset-link-text-decoration-none)\; font-weight: var(--font-weight-bold)\; border: var(--artdeco-reset-link-border-zero)\; color: var(--color-action)\; touch-action: manipulation\; position: relative\; font-family: -apple-system\, system-ui\, BlinkMacSystemFont\, &quot\;Segoe UI&quot\;\, Roboto\, &quot\;Helvetica Neue&quot\;\, &quot\;Fira Sans&quot\;\, Ubuntu\, Oxygen\, &quot\;Oxygen Sans&quot\;\, Cantarell\, &quot\;Droid Sans&quot\;\, &quot\;Apple Color Emoji&quot\;\, &quot\;Segoe UI Emoji&quot\;\, &quot\;Segoe UI Emoji&quot\;\, &quot\;Segoe UI Symbol&quot\;\, &quot\;Lucida Grande&quot\;\, Helvetica\, Arial\, sans-serif\; line-height: inherit !important\;">Leslie Richards</a><span style="color: rgba(0\, 0\, 0\, 0.9)\;">&nbsp\;for&nbsp\;her recent recognition by the&nbsp\;</span><a data-attribute-index="2" data-entity-hovercard-id="urn:li:fs_miniCompany:536658" data-entity-type="MINI_COMPANY" href="https://www.linkedin.com/company/philadelphia-business-journal/" style="box-sizing: inherit\; margin: var(--artdeco-reset-base-margin-zero)\; padding: var(--artdeco-reset-base-padding-zero)\; font-size: 14px\; vertical-align: var(--artdeco-reset-base-vertical-align-baseline)\; text-decoration: var(--artdeco-reset-link-text-decoration-none)\; font-weight: var(--font-weight-bold)\; border: var(--artdeco-reset-link-border-zero)\; color: var(--color-action)\; touch-action: manipulation\; position: relative\; font-family: -apple-system\, system-ui\, BlinkMacSystemFont\, &quot\;Segoe UI&quot\;\, Roboto\, &quot\;Helvetica Neue&quot\;\, &quot\;Fira Sans&quot\;\, Ubuntu\, Oxygen\, &quot\;Oxygen Sans&quot\;\, Cantarell\, &quot\;Droid Sans&quot\;\, &quot\;Apple Color Emoji&quot\;\, &quot\;Segoe UI Emoji&quot\;\, &quot\;Segoe UI Emoji&quot\;\, &quot\;Segoe UI Symbol&quot\;\, &quot\;Lucida Grande&quot\;\, Helvetica\, Arial\, sans-serif\; line-height: inherit !important\;">Philadelphia Business Journal</a><span style="color: rgba(0\, 0\, 0\, 0.9)\;">&nbsp\;as one of 2021&#39\;s POWER 100!&nbsp\;</span></span></span>
LOCATION:The SunnyBrook Ballroom
UID:e.2183.856857
SEQUENCE:3
DTSTAMP:20260420T194944Z
URL:https://business.tricountyareachamber.com/events/details/reach-luncheon-with-special-guest-leslie-richards-general-manager-of-septa-856857
END:VEVENT

END:VCALENDAR
