BEGIN:VCALENDAR
VERSION:2.0
PRODID:-//ChamberMaster//Event Calendar 2.0//EN
METHOD:PUBLISH
X-PUBLISHED-TTL:P3D
REFRESH-INTERVAL:P3D
CALSCALE:GREGORIAN
BEGIN:VEVENT
DTSTART:20220127T163000Z
DTEND:20220127T180000Z
X-MICROSOFT-CDO-ALLDAYEVENT:FALSE
SUMMARY:REACH Program with special guest Therol Dix\, JD\; MCCC VP of Pottstown Campus and Educational Partnerships
DESCRIPTION:This event is now a Virtual Program.  Join other professional women to learn how mentoring is essential to professional growth. Accepting is the first step\, but the REACH is in giving or being a mentor. Therol Dix\, JD\, will provide examples from her mentoring experiences in professional settings and the impact on her career choices. There will be a short break away for attendees to discuss the impact mentors have had on them\, and Dr. Dix will provide a quick activity at the end for people to think about their next steps in mentoring.
X-ALT-DESC;FMTTYPE=text/html:<p><span style="font-size:14px\;"><span style="font-family:arial\;"><span style="color:#47443F\;">This event is now a Virtual Program.&nbsp\; Join other professional women to learn how&nbsp\;</span>mentoring is essential to professional growth. Accepting is the first step\, but the REACH is in giving or being a mentor. Therol Dix\, JD\,&nbsp\;will provide examples from her&nbsp\;mentoring experiences in professional settings and the impact on her&nbsp\;career choices. There will be a short break away for attendees to discuss the impact mentors have had on them\, and Dr. Dix&nbsp\;will provide a quick activity at the end for people to think about their next steps in mentoring.</span></span></p>\n
LOCATION:VIRTUAL | A Zoom link will be sent to attendees prior to the event.
UID:e.2183.856860
SEQUENCE:3
DTSTAMP:20260424T070829Z
URL:https://business.tricountyareachamber.com/events/details/reach-program-with-special-guest-therol-dix-jd-mccc-vp-of-pottstown-campus-and-educational-partnerships-856860
END:VEVENT

END:VCALENDAR
