BEGIN:VCALENDAR
VERSION:2.0
PRODID:-//ChamberMaster//Event Calendar 2.0//EN
METHOD:PUBLISH
X-PUBLISHED-TTL:P3D
REFRESH-INTERVAL:P3D
CALSCALE:GREGORIAN
BEGIN:VEVENT
DTSTART:20250228T130000Z
DTEND:20250228T140000Z
X-MICROSOFT-CDO-ALLDAYEVENT:FALSE
SUMMARY:REACH Relationships & Coffee
DESCRIPTION:REACH Relationships & Coffee \n\nFriday\, February 28\, 2025\n\n8 AM - 9 AM\n\nKeystone Villa at Douglassville \n\n           Independent Living\n\n\n\nWhy Attend: The TriCounty Area Chamber's REACH group is offering you the opportunity to make more connections over coffee. This monthly connection will build your relationships with fellow REACH Members.\n\n\n\nJoin us to meet new people\, check in with each other\, and share inspiration. Grow your network and connect with other professional women in the tri-county region.
X-ALT-DESC;FMTTYPE=text/html:<div><span style="font-family: arial\; font-size: 18px\;"><b>REACH Relationships &amp\; Coffee&nbsp\;</b></span><br />\n<span style="font-size:18px\;"><strong>Friday\, February 28\, 2025</strong><br />\n<strong>8 AM - 9 AM</strong><br />\n<strong>Keystone Villa at Douglassville&nbsp\;</strong><br />\n&nbsp\; &nbsp\; &nbsp\; &nbsp\; &nbsp\; &nbsp\;Independent Living<br />\n<br />\n<strong>Why Attend:</strong> The TriCounty Area Chamber&#39\;s REACH group is offering you the opportunity to make more connections over coffee. This&nbsp\;monthly connection will&nbsp\;build your relationships with fellow REACH Members.<br />\n<br />\nJoin us to meet new people\, check in with each other\, and share inspiration. Grow your network and connect with other professional women in the&nbsp\;tri-county region.&nbsp\;</span></div>\n
LOCATION:in-person event. Keystone Villa at Douglassville Independent Living 1180 Ben Franklin Highway\, Douglassville
UID:e.2183.861561
SEQUENCE:3
DTSTAMP:20260421T173608Z
URL:https://business.tricountyareachamber.com/events/details/reach-relationships-coffee-861561
END:VEVENT

END:VCALENDAR
