BEGIN:VCALENDAR
VERSION:2.0
PRODID:-//ChamberMaster//Event Calendar 2.0//EN
METHOD:PUBLISH
X-PUBLISHED-TTL:P3D
REFRESH-INTERVAL:P3D
CALSCALE:GREGORIAN
BEGIN:VEVENT
DTSTART:20251208T163000Z
DTEND:20251208T180000Z
X-MICROSOFT-CDO-ALLDAYEVENT:FALSE
SUMMARY:REACH Social: Create a Holiday Centerpiece
DESCRIPTION:Join our REACH Social Outing to make this beautiful holiday arrangement during your lunch hour.\n\n \nWhat: Join our REACH Social Outing during your lunch hour to make a holiday centerpiece.\n\n\n\nThe $45 fee covers supplies.  Must register ahead so supplies can be prepared.  You may keep your creation to brighten your home or office or give to a friend.\n\n\n\nLunch will not be provided. Please feel free to bring a bagged lunch.
X-ALT-DESC;FMTTYPE=text/html:<div style="text-align: center\;"><strong style="text-align: center\;"><span style="font-size: 18pt\;">Join our REACH Social Outing to make this&nbsp\;</span></strong><strong style="text-align: center\;"><span style="font-size: 18pt\;">beautiful holiday arrangement&nbsp\;</span></strong><strong style="text-align: center\;"><span style="font-size: 18pt\;">during your lunch hour.</span></strong><br />\n&nbsp\;</div>\n<span style="font-size:18px\;">What: Join our REACH Social Outing&nbsp\;during your lunch hour&nbsp\;to make a holiday centerpiece.<br />\n<br />\nThe $45 fee covers supplies.&nbsp\; Must register ahead so supplies can be prepared.&nbsp\; You may keep your creation to brighten your home or office or give to a friend.<br />\n<br />\n<em>Lunch will not be provided. Please feel free to bring a bagged lunch.</em></span><br />\n&nbsp\;
LOCATION:Achin' Back Garden Center 10 Penn Rd.\, Pottstown\, PA 19464
UID:e.2183.864082
SEQUENCE:3
DTSTAMP:20260421T174809Z
URL:https://business.tricountyareachamber.com/events/details/reach-social-create-a-holiday-centerpiece-864082
END:VEVENT

END:VCALENDAR
