BEGIN:VCALENDAR
VERSION:2.0
PRODID:-//ChamberMaster//Event Calendar 2.0//EN
METHOD:PUBLISH
X-PUBLISHED-TTL:P3D
REFRESH-INTERVAL:P3D
CALSCALE:GREGORIAN
BEGIN:VEVENT
DTSTART:20200212T163000Z
DTEND:20200212T180000Z
X-MICROSOFT-CDO-ALLDAYEVENT:FALSE
SUMMARY:REACH to Find Harmony
DESCRIPTION:Featuring Jenna M. Armato\, Growth & Success Coach\n\nOne of the biggest challenges identified by working professionals is the need to balance life and work. It can be all too easy to slip into response and react mode while trying to meet the commitments that are competing for our time and attention. \n\nCome explore as Jenna flips this work - life balance thing UPSIDE DOWN! Is it really balance you're seeking or is it something else? Learn a framework that you can put in place to have an immediate impact on your decision making process and a long term effect on your growth and RESULTS in every area of your life!
X-ALT-DESC;FMTTYPE=text/html:<strong>Featuring Jenna M. Armato\, Growth &amp\; Success Coach</strong><br />\nOne of the biggest challenges identified by working professionals is the need to balance life and work. It can be all too easy to slip into response and react mode while trying to meet the commitments that are competing for our time and attention.&nbsp\;<br />\nCome explore as Jenna flips this work - life balance thing UPSIDE DOWN! Is it really balance you&#39\;re seeking or is it something else? Learn a framework that you can put in place to have an immediate impact on your decision making process and a long term effect on your growth and RESULTS in every area of your life!
LOCATION:The Loft at Landis Creek 765 N. Lewis Rd\, Limerick\, PA 19468
UID:e.2183.854640
SEQUENCE:3
DTSTAMP:20260424T163702Z
URL:https://business.tricountyareachamber.com/events/details/reach-to-find-harmony-854640
END:VEVENT

END:VCALENDAR
